BEGIN:VCALENDAR
VERSION:2.0
PRODID:-//LMC – a fellowship of anabaptist churches - ECPv6.15.20//NONSGML v1.0//EN
CALSCALE:GREGORIAN
METHOD:PUBLISH
X-WR-CALNAME:LMC – a fellowship of anabaptist churches
X-ORIGINAL-URL:https://lmcchurches.org
X-WR-CALDESC:Events for LMC – a fellowship of anabaptist churches
REFRESH-INTERVAL;VALUE=DURATION:PT1H
X-Robots-Tag:noindex
X-PUBLISHED-TTL:PT1H
BEGIN:VTIMEZONE
TZID:America/New_York
BEGIN:DAYLIGHT
TZOFFSETFROM:-0500
TZOFFSETTO:-0400
TZNAME:EDT
DTSTART:20170312T070000
END:DAYLIGHT
BEGIN:STANDARD
TZOFFSETFROM:-0400
TZOFFSETTO:-0500
TZNAME:EST
DTSTART:20171105T060000
END:STANDARD
BEGIN:DAYLIGHT
TZOFFSETFROM:-0500
TZOFFSETTO:-0400
TZNAME:EDT
DTSTART:20180311T070000
END:DAYLIGHT
BEGIN:STANDARD
TZOFFSETFROM:-0400
TZOFFSETTO:-0500
TZNAME:EST
DTSTART:20181104T060000
END:STANDARD
BEGIN:DAYLIGHT
TZOFFSETFROM:-0500
TZOFFSETTO:-0400
TZNAME:EDT
DTSTART:20190310T070000
END:DAYLIGHT
BEGIN:STANDARD
TZOFFSETFROM:-0400
TZOFFSETTO:-0500
TZNAME:EST
DTSTART:20191103T060000
END:STANDARD
END:VTIMEZONE
BEGIN:VEVENT
DTSTART;TZID=America/New_York:20180518T080000
DTEND;TZID=America/New_York:20180518T150000
DTSTAMP:20260423T160615
CREATED:20180426T145953Z
LAST-MODIFIED:20180426T145953Z
UID:2493-1526630400-1526655600@lmcchurches.org
SUMMARY:Bring a Friend Quilting Bee
DESCRIPTION:Quilting Room in Landis Homes Harvest View Annex \nMay 18 and July 23 • 8:00 a.m. – 3:00 p.m. \nQuilts will be sold to support the Landis Homes Caring Fund \nat the September 8 Benefit Auction \nSnacks will be provided for everyone \nLunch will be provided for those quilting 4 hours or more \nRSVP by calling Advancement Team at (717) 509-5490
URL:https://lmcchurches.org/event/bring-a-friend-quilting-bee/2018-05-18/
LOCATION:Landis Homes\, 1001 East Oregon Road\, Lititz\, PA\, 17543\, United States
ORGANIZER;CN="Landis Homes":MAILTO:supportgroups@landishomes.org
GEO:40.1121608;-76.2687428
X-APPLE-STRUCTURED-LOCATION;VALUE=URI;X-ADDRESS=Landis Homes 1001 East Oregon Road Lititz PA 17543 United States;X-APPLE-RADIUS=500;X-TITLE=1001 East Oregon Road:geo:-76.2687428,40.1121608
END:VEVENT
END:VCALENDAR