BEGIN:VCALENDAR
VERSION:2.0
PRODID:-//LMC – a fellowship of anabaptist churches - ECPv6.15.20//NONSGML v1.0//EN
CALSCALE:GREGORIAN
METHOD:PUBLISH
X-ORIGINAL-URL:https://lmcchurches.org
X-WR-CALDESC:Events for LMC – a fellowship of anabaptist churches
REFRESH-INTERVAL;VALUE=DURATION:PT1H
X-Robots-Tag:noindex
X-PUBLISHED-TTL:PT1H
BEGIN:VTIMEZONE
TZID:America/New_York
BEGIN:DAYLIGHT
TZOFFSETFROM:-0500
TZOFFSETTO:-0400
TZNAME:EDT
DTSTART:20170312T070000
END:DAYLIGHT
BEGIN:STANDARD
TZOFFSETFROM:-0400
TZOFFSETTO:-0500
TZNAME:EST
DTSTART:20171105T060000
END:STANDARD
BEGIN:DAYLIGHT
TZOFFSETFROM:-0500
TZOFFSETTO:-0400
TZNAME:EDT
DTSTART:20180311T070000
END:DAYLIGHT
BEGIN:STANDARD
TZOFFSETFROM:-0400
TZOFFSETTO:-0500
TZNAME:EST
DTSTART:20181104T060000
END:STANDARD
BEGIN:DAYLIGHT
TZOFFSETFROM:-0500
TZOFFSETTO:-0400
TZNAME:EDT
DTSTART:20190310T070000
END:DAYLIGHT
BEGIN:STANDARD
TZOFFSETFROM:-0400
TZOFFSETTO:-0500
TZNAME:EST
DTSTART:20191103T060000
END:STANDARD
END:VTIMEZONE
BEGIN:VEVENT
DTSTART;TZID=America/New_York:20180516T073000
DTEND;TZID=America/New_York:20180516T083000
DTSTAMP:20260423T211739
CREATED:20180516T135734Z
LAST-MODIFIED:20180516T135734Z
UID:2542-1526455800-1526459400@lmcchurches.org
SUMMARY:East Petersburg Mennonite Church Hero Maker Book Study
DESCRIPTION:Bishop Keith Blank and Pastor Jeff McLain are inviting leaders and other individuals to study the book “Hero Maker” by Dave Ferguson and Warren Bird. This is a conversation that would fit you well. This is the call as staff at East Petersburg Mennonite Church! They will meet Wednesday mornings\, at 7:30 a.m.\, for Breakfast\, starting on May 16th. They have a private space reserved at the Family Fare Restaurant in East Petersburg. (You must buy breakfast)
URL:https://lmcchurches.org/event/east-petersburg-mennonite-church-hero-maker-book-study/2018-05-16/
LOCATION:Family Fare Restaurant\, 5921 Main St\, East Petersburg\, PA\, 17520\, United States
GEO:40.0981513;-76.3528976
X-APPLE-STRUCTURED-LOCATION;VALUE=URI;X-ADDRESS=Family Fare Restaurant 5921 Main St East Petersburg PA 17520 United States;X-APPLE-RADIUS=500;X-TITLE=5921 Main St:geo:-76.3528976,40.0981513
END:VEVENT
END:VCALENDAR