BEGIN:VCALENDAR
VERSION:2.0
PRODID:-//LMC – a fellowship of anabaptist churches - ECPv6.15.20//NONSGML v1.0//EN
CALSCALE:GREGORIAN
METHOD:PUBLISH
X-WR-CALNAME:LMC – a fellowship of anabaptist churches
X-ORIGINAL-URL:https://lmcchurches.org
X-WR-CALDESC:Events for LMC – a fellowship of anabaptist churches
REFRESH-INTERVAL;VALUE=DURATION:PT1H
X-Robots-Tag:noindex
X-PUBLISHED-TTL:PT1H
BEGIN:VTIMEZONE
TZID:America/New_York
BEGIN:DAYLIGHT
TZOFFSETFROM:-0500
TZOFFSETTO:-0400
TZNAME:EDT
DTSTART:20200308T070000
END:DAYLIGHT
BEGIN:STANDARD
TZOFFSETFROM:-0400
TZOFFSETTO:-0500
TZNAME:EST
DTSTART:20201101T060000
END:STANDARD
BEGIN:DAYLIGHT
TZOFFSETFROM:-0500
TZOFFSETTO:-0400
TZNAME:EDT
DTSTART:20210314T070000
END:DAYLIGHT
BEGIN:STANDARD
TZOFFSETFROM:-0400
TZOFFSETTO:-0500
TZNAME:EST
DTSTART:20211107T060000
END:STANDARD
BEGIN:DAYLIGHT
TZOFFSETFROM:-0500
TZOFFSETTO:-0400
TZNAME:EDT
DTSTART:20220313T070000
END:DAYLIGHT
BEGIN:STANDARD
TZOFFSETFROM:-0400
TZOFFSETTO:-0500
TZNAME:EST
DTSTART:20221106T060000
END:STANDARD
END:VTIMEZONE
BEGIN:VEVENT
DTSTART;TZID=America/New_York:20210201T190000
DTEND;TZID=America/New_York:20210201T200000
DTSTAMP:20260420T224026
CREATED:20210127T152837Z
LAST-MODIFIED:20211220T165910Z
UID:5973-1612206000-1612209600@lmcchurches.org
SUMMARY:LMC Virtual Prayer Gathering
DESCRIPTION:Join Zoom Meeting\nhttps://us02web.zoom.us/j/88177818827?pwd=eHF5UTBhY0t2bjNwRWhLUDg5WE40UT09 \nMeeting ID: 881 7781 8827 \nPasscode: Prayer \nOne tap mobile\n+13126266799\,\,88177818827# US (Chicago)\n+19294362866\,\,88177818827# US (New York)
URL:https://lmcchurches.org/event/lmc-virtual-prayer-gathering-2/2021-02-01/
LOCATION:LMC Zoom
ORGANIZER;CN="LMC Churches":MAILTO:information@lmcchurches.org
END:VEVENT
END:VCALENDAR