BEGIN:VCALENDAR
VERSION:2.0
PRODID:-//LMC – a fellowship of anabaptist churches - ECPv6.15.20//NONSGML v1.0//EN
CALSCALE:GREGORIAN
METHOD:PUBLISH
X-WR-CALNAME:LMC – a fellowship of anabaptist churches
X-ORIGINAL-URL:https://lmcchurches.org
X-WR-CALDESC:Events for LMC – a fellowship of anabaptist churches
REFRESH-INTERVAL;VALUE=DURATION:PT1H
X-Robots-Tag:noindex
X-PUBLISHED-TTL:PT1H
BEGIN:VTIMEZONE
TZID:America/New_York
BEGIN:DAYLIGHT
TZOFFSETFROM:-0500
TZOFFSETTO:-0400
TZNAME:EDT
DTSTART:20190310T070000
END:DAYLIGHT
BEGIN:STANDARD
TZOFFSETFROM:-0400
TZOFFSETTO:-0500
TZNAME:EST
DTSTART:20191103T060000
END:STANDARD
BEGIN:DAYLIGHT
TZOFFSETFROM:-0500
TZOFFSETTO:-0400
TZNAME:EDT
DTSTART:20200308T070000
END:DAYLIGHT
BEGIN:STANDARD
TZOFFSETFROM:-0400
TZOFFSETTO:-0500
TZNAME:EST
DTSTART:20201101T060000
END:STANDARD
BEGIN:DAYLIGHT
TZOFFSETFROM:-0500
TZOFFSETTO:-0400
TZNAME:EDT
DTSTART:20210314T070000
END:DAYLIGHT
BEGIN:STANDARD
TZOFFSETFROM:-0400
TZOFFSETTO:-0500
TZNAME:EST
DTSTART:20211107T060000
END:STANDARD
END:VTIMEZONE
BEGIN:VEVENT
DTSTART;TZID=America/New_York:20201017T163000
DTEND;TZID=America/New_York:20201017T163000
DTSTAMP:20260425T233320
CREATED:20201009T131946Z
LAST-MODIFIED:20201009T193247Z
UID:5703-1602952200-1602952200@lmcchurches.org
SUMMARY:Church Sound 101 Worshop
DESCRIPTION:Register today! by contacting Sherri Martin\nsmartin@lmcchurches.org or 717-2935246 ext 102
URL:https://lmcchurches.org/event/church-sound-101/
LOCATION:LMC Office\, 450 N. Prince Street\, Lancaster\, PA\, United States
GEO:40.0285001;-76.2291728
X-APPLE-STRUCTURED-LOCATION;VALUE=URI;X-ADDRESS=LMC Office 450 N. Prince Street Lancaster PA United States;X-APPLE-RADIUS=500;X-TITLE=450 N. Prince Street:geo:-76.2291728,40.0285001
END:VEVENT
END:VCALENDAR