BEGIN:VCALENDAR
VERSION:2.0
PRODID:-//LMC – a fellowship of anabaptist churches - ECPv6.15.20//NONSGML v1.0//EN
CALSCALE:GREGORIAN
METHOD:PUBLISH
X-WR-CALNAME:LMC – a fellowship of anabaptist churches
X-ORIGINAL-URL:https://lmcchurches.org
X-WR-CALDESC:Events for LMC – a fellowship of anabaptist churches
REFRESH-INTERVAL;VALUE=DURATION:PT1H
X-Robots-Tag:noindex
X-PUBLISHED-TTL:PT1H
BEGIN:VTIMEZONE
TZID:America/New_York
BEGIN:DAYLIGHT
TZOFFSETFROM:-0500
TZOFFSETTO:-0400
TZNAME:EDT
DTSTART:20160313T070000
END:DAYLIGHT
BEGIN:STANDARD
TZOFFSETFROM:-0400
TZOFFSETTO:-0500
TZNAME:EST
DTSTART:20161106T060000
END:STANDARD
BEGIN:DAYLIGHT
TZOFFSETFROM:-0500
TZOFFSETTO:-0400
TZNAME:EDT
DTSTART:20170312T070000
END:DAYLIGHT
BEGIN:STANDARD
TZOFFSETFROM:-0400
TZOFFSETTO:-0500
TZNAME:EST
DTSTART:20171105T060000
END:STANDARD
BEGIN:DAYLIGHT
TZOFFSETFROM:-0500
TZOFFSETTO:-0400
TZNAME:EDT
DTSTART:20180311T070000
END:DAYLIGHT
BEGIN:STANDARD
TZOFFSETFROM:-0400
TZOFFSETTO:-0500
TZNAME:EST
DTSTART:20181104T060000
END:STANDARD
END:VTIMEZONE
BEGIN:VEVENT
DTSTART;TZID=America/New_York:20171017T183000
DTEND;TZID=America/New_York:20171017T203000
DTSTAMP:20260420T171150
CREATED:20170706T200914Z
LAST-MODIFIED:20170706T200914Z
UID:1582-1508265000-1508272200@lmcchurches.org
SUMMARY:Friendship Community 45th Anniversary Celebration Dinner
DESCRIPTION:
URL:https://lmcchurches.org/event/friendship-community-45th-anniversary-celebration-dinner/
LOCATION:Shady Maple Banquets\, 129 Toddy Dr\, East Earl\, PA\, 17519\, United States
ORGANIZER;CN="Friendship Community":MAILTO:info@friendshipcommunity.net
GEO:40.1185989;-76.0323026
X-APPLE-STRUCTURED-LOCATION;VALUE=URI;X-ADDRESS=Shady Maple Banquets 129 Toddy Dr East Earl PA 17519 United States;X-APPLE-RADIUS=500;X-TITLE=129 Toddy Dr:geo:-76.0323026,40.1185989
END:VEVENT
BEGIN:VEVENT
DTSTART;TZID=America/New_York:20170907T080000
DTEND;TZID=America/New_York:20170907T140000
DTSTAMP:20260420T171150
CREATED:20170706T200150Z
LAST-MODIFIED:20170706T200150Z
UID:1578-1504771200-1504792800@lmcchurches.org
SUMMARY:Friendship Community Irvin C. Enck Memorial Golf Tournament
DESCRIPTION:
URL:https://lmcchurches.org/event/friendship-community-irvin-c-enck-memorial-golf-tournament/
LOCATION:Foxchase Golf Club
ORGANIZER;CN="Friendship Community":MAILTO:info@friendshipcommunity.net
END:VEVENT
END:VCALENDAR