BEGIN:VCALENDAR
VERSION:2.0
PRODID:-//LMC – a fellowship of anabaptist churches - ECPv6.15.20//NONSGML v1.0//EN
CALSCALE:GREGORIAN
METHOD:PUBLISH
X-ORIGINAL-URL:https://lmcchurches.org
X-WR-CALDESC:Events for LMC – a fellowship of anabaptist churches
REFRESH-INTERVAL;VALUE=DURATION:PT1H
X-Robots-Tag:noindex
X-PUBLISHED-TTL:PT1H
BEGIN:VTIMEZONE
TZID:America/New_York
BEGIN:DAYLIGHT
TZOFFSETFROM:-0500
TZOFFSETTO:-0400
TZNAME:EDT
DTSTART:20160313T070000
END:DAYLIGHT
BEGIN:STANDARD
TZOFFSETFROM:-0400
TZOFFSETTO:-0500
TZNAME:EST
DTSTART:20161106T060000
END:STANDARD
BEGIN:DAYLIGHT
TZOFFSETFROM:-0500
TZOFFSETTO:-0400
TZNAME:EDT
DTSTART:20170312T070000
END:DAYLIGHT
BEGIN:STANDARD
TZOFFSETFROM:-0400
TZOFFSETTO:-0500
TZNAME:EST
DTSTART:20171105T060000
END:STANDARD
BEGIN:DAYLIGHT
TZOFFSETFROM:-0500
TZOFFSETTO:-0400
TZNAME:EDT
DTSTART:20180311T070000
END:DAYLIGHT
BEGIN:STANDARD
TZOFFSETFROM:-0400
TZOFFSETTO:-0500
TZNAME:EST
DTSTART:20181104T060000
END:STANDARD
END:VTIMEZONE
BEGIN:VEVENT
DTSTART;TZID=America/New_York:20171119T163000
DTEND;TZID=America/New_York:20171119T180000
DTSTAMP:20260421T090742
CREATED:20171018T130549Z
LAST-MODIFIED:20171018T130549Z
UID:1842-1511109000-1511114400@lmcchurches.org
SUMMARY:Harmonies Workshop – Sing Colonial Hymns
DESCRIPTION:The Foresingers are back! The Foresingers formed in 1993 as a group of 12 select singers interested in American early music. Performing in historic sites and museums and academic conferences\, they took the music to several states and Canada. They won cameo appearances in two PBS documentaries.\n\nIn celebration of having the score engraved this year\, the group decided to gather again\, including the piano\, temple blocks\, zither\, flute\, harp and bells. All are welcome to this free program.  Expect some audience participation.\n\nThese early tunes sung by ear were popular before singing schools taught harmony and hymnals printed notes. The music evokes a world of unison\, slow mystery. When John Adams went to church in New York in 1774 he wrote to Abigail that the singing was “in the old way\,” with all the “dawdling and quavering.”\n\nA free will offering will help defray expenses.
URL:https://lmcchurches.org/event/harmonies-workshop-sing-colonial-hymns/
LOCATION:Community Mennonite Church\, 328 W Orange St\, Lancaster\, PA\, 17603\, United States
ORGANIZER;CN="Harmonies Workshop":MAILTO:office@harmonies.org
GEO:40.0386041;-76.3117532
X-APPLE-STRUCTURED-LOCATION;VALUE=URI;X-ADDRESS=Community Mennonite Church 328 W Orange St Lancaster PA 17603 United States;X-APPLE-RADIUS=500;X-TITLE=328 W Orange St:geo:-76.3117532,40.0386041
END:VEVENT
END:VCALENDAR