BEGIN:VCALENDAR
VERSION:2.0
PRODID:-//LMC – a fellowship of anabaptist churches - ECPv6.15.20//NONSGML v1.0//EN
CALSCALE:GREGORIAN
METHOD:PUBLISH
X-ORIGINAL-URL:https://lmcchurches.org
X-WR-CALDESC:Events for LMC – a fellowship of anabaptist churches
REFRESH-INTERVAL;VALUE=DURATION:PT1H
X-Robots-Tag:noindex
X-PUBLISHED-TTL:PT1H
BEGIN:VTIMEZONE
TZID:America/New_York
BEGIN:DAYLIGHT
TZOFFSETFROM:-0500
TZOFFSETTO:-0400
TZNAME:EDT
DTSTART:20180311T070000
END:DAYLIGHT
BEGIN:STANDARD
TZOFFSETFROM:-0400
TZOFFSETTO:-0500
TZNAME:EST
DTSTART:20181104T060000
END:STANDARD
BEGIN:DAYLIGHT
TZOFFSETFROM:-0500
TZOFFSETTO:-0400
TZNAME:EDT
DTSTART:20190310T070000
END:DAYLIGHT
BEGIN:STANDARD
TZOFFSETFROM:-0400
TZOFFSETTO:-0500
TZNAME:EST
DTSTART:20191103T060000
END:STANDARD
BEGIN:DAYLIGHT
TZOFFSETFROM:-0500
TZOFFSETTO:-0400
TZNAME:EDT
DTSTART:20200308T070000
END:DAYLIGHT
BEGIN:STANDARD
TZOFFSETFROM:-0400
TZOFFSETTO:-0500
TZNAME:EST
DTSTART:20201101T060000
END:STANDARD
END:VTIMEZONE
BEGIN:VEVENT
DTSTART;TZID=America/New_York:20191012T083000
DTEND;TZID=America/New_York:20191012T153000
DTSTAMP:20260421T115151
CREATED:20190906T135445Z
LAST-MODIFIED:20190917T144655Z
UID:4199-1570869000-1570894200@lmcchurches.org
SUMMARY:Revive Initiative ~ Karl Vaters
DESCRIPTION:You join us for the Revive Initiative last year\, with Howard Wagler\, at East Petersburg Mennonite Church. This year\, the  Revive Initiative invites you to a day of resourcing with Karl Vaters\, focused on small churches and small church leaders on October 12\, 2019\, at Mountville Mennonite Church. \nPlease plan to join us for New Small Church with Karl Vaters on October 12\, from 8:30 A.M. to 3:30 P.M. at Mountville Mennonite Church\, presented by the Revive Initiative. This day is focused on encouraging\, equipping\, and empowering small churches and small church leaders. Karl Vaters will present throughout the day on developing a new and healthy small church. Tickets are only $20. Your ticket includes light refreshments and a light lunch. We encourage you to register to advance. (Doors will open at 8:00 A.M.) \nThe Revive Initiative is a partnership of individuals and churches focused on finding ways to encourage\, equip\, and empower small churches and leaders in Lancaster County\, to announce\, embody\, and demonstrate the reigning good news and goodness of the Kingdom of God. \nThis event will be hosted by the Revive Initiative at the Mountville Mennonite Church building; at 205 Froelich Ave in Mountville\, Pennsylvania. Please register online quickly. Tickets are limited to 150 individuals.
URL:https://lmcchurches.org/event/4199/
LOCATION:Mountville Mennonite Church\, 205 Froelich Ave\, Mountville\, PA\, 17554\, United States
GEO:40.0378143;-76.4352556
X-APPLE-STRUCTURED-LOCATION;VALUE=URI;X-ADDRESS=Mountville Mennonite Church 205 Froelich Ave Mountville PA 17554 United States;X-APPLE-RADIUS=500;X-TITLE=205 Froelich Ave:geo:-76.4352556,40.0378143
END:VEVENT
END:VCALENDAR