BEGIN:VCALENDAR
VERSION:2.0
PRODID:-//LMC – a fellowship of anabaptist churches - ECPv6.15.20//NONSGML v1.0//EN
CALSCALE:GREGORIAN
METHOD:PUBLISH
X-WR-CALNAME:LMC – a fellowship of anabaptist churches
X-ORIGINAL-URL:https://lmcchurches.org
X-WR-CALDESC:Events for LMC – a fellowship of anabaptist churches
REFRESH-INTERVAL;VALUE=DURATION:PT1H
X-Robots-Tag:noindex
X-PUBLISHED-TTL:PT1H
BEGIN:VTIMEZONE
TZID:America/New_York
BEGIN:DAYLIGHT
TZOFFSETFROM:-0500
TZOFFSETTO:-0400
TZNAME:EDT
DTSTART:20160313T070000
END:DAYLIGHT
BEGIN:STANDARD
TZOFFSETFROM:-0400
TZOFFSETTO:-0500
TZNAME:EST
DTSTART:20161106T060000
END:STANDARD
BEGIN:DAYLIGHT
TZOFFSETFROM:-0500
TZOFFSETTO:-0400
TZNAME:EDT
DTSTART:20170312T070000
END:DAYLIGHT
BEGIN:STANDARD
TZOFFSETFROM:-0400
TZOFFSETTO:-0500
TZNAME:EST
DTSTART:20171105T060000
END:STANDARD
BEGIN:DAYLIGHT
TZOFFSETFROM:-0500
TZOFFSETTO:-0400
TZNAME:EDT
DTSTART:20180311T070000
END:DAYLIGHT
BEGIN:STANDARD
TZOFFSETFROM:-0400
TZOFFSETTO:-0500
TZNAME:EST
DTSTART:20181104T060000
END:STANDARD
END:VTIMEZONE
BEGIN:VEVENT
DTSTART;TZID=America/New_York:20171030T180000
DTEND;TZID=America/New_York:20171030T200000
DTSTAMP:20260421T071358
CREATED:20171018T132249Z
LAST-MODIFIED:20171018T132249Z
UID:1845-1509386400-1509393600@lmcchurches.org
SUMMARY:Principals & Faith-Based Meet and Greet
DESCRIPTION:The School District of Lancaster and Dr. Damaris Rau would like to invite you\, our School District of Lancaster Principals\, our community Pastors\, Clergy\, and Faith Leaders to attend a “Meet & Greet” event on Monday\, October 30th. This event will provide an opportunity for District Administrative Staff and Principals to speak directly with Lancaster’s Faith-Based Leaders to best determine ways in which congregations can collaborate and partner with our staff and schools to support the needs of our students and families. \nPlease join us for a complimentary coffee and dessert on Monday\, October 30th from 6:00 pm to 8:00 pm at First Presbyterian Church\, located at 140 East Orange Street. Please RSVP no later than October 23rd\, and feel free to share this with other Pastors and Faith-Based Leaders who are interested in connecting with the School District of Lancaster\, as well. We look forward to the continued discussion with you!
URL:https://lmcchurches.org/event/principals-faith-based-meet-greet/
LOCATION:First Presbyterian Church\, 140 E Orange St\, Lancaster\, PA\, 17602\, United States
ORGANIZER;CN="School District of Lancaster":MAILTO:ysrichards@lancaster.k12.pa.us
GEO:40.0396084;-76.3026787
X-APPLE-STRUCTURED-LOCATION;VALUE=URI;X-ADDRESS=First Presbyterian Church 140 E Orange St Lancaster PA 17602 United States;X-APPLE-RADIUS=500;X-TITLE=140 E Orange St:geo:-76.3026787,40.0396084
END:VEVENT
END:VCALENDAR