BEGIN:VCALENDAR
VERSION:2.0
PRODID:-//LMC – a fellowship of anabaptist churches - ECPv6.15.20//NONSGML v1.0//EN
CALSCALE:GREGORIAN
METHOD:PUBLISH
X-ORIGINAL-URL:https://lmcchurches.org
X-WR-CALDESC:Events for LMC – a fellowship of anabaptist churches
REFRESH-INTERVAL;VALUE=DURATION:PT1H
X-Robots-Tag:noindex
X-PUBLISHED-TTL:PT1H
BEGIN:VTIMEZONE
TZID:America/New_York
BEGIN:DAYLIGHT
TZOFFSETFROM:-0500
TZOFFSETTO:-0400
TZNAME:EDT
DTSTART:20200308T070000
END:DAYLIGHT
BEGIN:STANDARD
TZOFFSETFROM:-0400
TZOFFSETTO:-0500
TZNAME:EST
DTSTART:20201101T060000
END:STANDARD
BEGIN:DAYLIGHT
TZOFFSETFROM:-0500
TZOFFSETTO:-0400
TZNAME:EDT
DTSTART:20210314T070000
END:DAYLIGHT
BEGIN:STANDARD
TZOFFSETFROM:-0400
TZOFFSETTO:-0500
TZNAME:EST
DTSTART:20211107T060000
END:STANDARD
BEGIN:DAYLIGHT
TZOFFSETFROM:-0500
TZOFFSETTO:-0400
TZNAME:EDT
DTSTART:20220313T070000
END:DAYLIGHT
BEGIN:STANDARD
TZOFFSETFROM:-0400
TZOFFSETTO:-0500
TZNAME:EST
DTSTART:20221106T060000
END:STANDARD
END:VTIMEZONE
BEGIN:VEVENT
DTSTART;TZID=America/New_York:20211106T183000
DTEND;TZID=America/New_York:20211106T210000
DTSTAMP:20260421T185659
CREATED:20211021T164850Z
LAST-MODIFIED:20211021T170537Z
UID:7090-1636223400-1636232400@lmcchurches.org
SUMMARY:"The Potter's House Friend Raiser".
DESCRIPTION:Celebrate Life w/ Laughter! “The Potter’s House Friend Raiser”. Come out on November 6 at Petra Church in New Holland for a night of celebration of a new life for those struggling with addiction. Gordon Douglas\, Robert G. Lee\, and Paul Aldrich will share their special brand of clean\, family-friendly comedy while supporting the ministry of The Potter’s House and The Potter’s House of Ruth Addiction Recovery and Discipleship Ministries. Tickets are $10 advance/$15 at door and $25 for a family (children under 18). There will also be a free-will offering in support of the ministry at intermission. Doors will open at 6:30 pm for the 7:00 pm show.
URL:https://lmcchurches.org/event/the-potters-house-friend-raiser/
LOCATION:Petra Church\, 565 Airport Rd\, New Holland\, PA\, 17557\, United States
GEO:40.0988359;-76.0622504
X-APPLE-STRUCTURED-LOCATION;VALUE=URI;X-ADDRESS=Petra Church 565 Airport Rd New Holland PA 17557 United States;X-APPLE-RADIUS=500;X-TITLE=565 Airport Rd:geo:-76.0622504,40.0988359
END:VEVENT
END:VCALENDAR