BEGIN:VCALENDAR
VERSION:2.0
PRODID:-//LMC – a fellowship of anabaptist churches - ECPv6.15.20//NONSGML v1.0//EN
CALSCALE:GREGORIAN
METHOD:PUBLISH
X-ORIGINAL-URL:https://lmcchurches.org
X-WR-CALDESC:Events for LMC – a fellowship of anabaptist churches
REFRESH-INTERVAL;VALUE=DURATION:PT1H
X-Robots-Tag:noindex
X-PUBLISHED-TTL:PT1H
BEGIN:VTIMEZONE
TZID:America/New_York
BEGIN:DAYLIGHT
TZOFFSETFROM:-0500
TZOFFSETTO:-0400
TZNAME:EDT
DTSTART:20230312T070000
END:DAYLIGHT
BEGIN:STANDARD
TZOFFSETFROM:-0400
TZOFFSETTO:-0500
TZNAME:EST
DTSTART:20231105T060000
END:STANDARD
BEGIN:DAYLIGHT
TZOFFSETFROM:-0500
TZOFFSETTO:-0400
TZNAME:EDT
DTSTART:20240310T070000
END:DAYLIGHT
BEGIN:STANDARD
TZOFFSETFROM:-0400
TZOFFSETTO:-0500
TZNAME:EST
DTSTART:20241103T060000
END:STANDARD
BEGIN:DAYLIGHT
TZOFFSETFROM:-0500
TZOFFSETTO:-0400
TZNAME:EDT
DTSTART:20250309T070000
END:DAYLIGHT
BEGIN:STANDARD
TZOFFSETFROM:-0400
TZOFFSETTO:-0500
TZNAME:EST
DTSTART:20251102T060000
END:STANDARD
BEGIN:DAYLIGHT
TZOFFSETFROM:-0500
TZOFFSETTO:-0400
TZNAME:EDT
DTSTART:20260308T070000
END:DAYLIGHT
BEGIN:STANDARD
TZOFFSETFROM:-0400
TZOFFSETTO:-0500
TZNAME:EST
DTSTART:20261101T060000
END:STANDARD
END:VTIMEZONE
BEGIN:VEVENT
DTSTART;TZID=America/New_York:20250925T183000
DTEND;TZID=America/New_York:20250925T200500
DTSTAMP:20260421T053743
CREATED:20250815T181104Z
LAST-MODIFIED:20250815T182512Z
UID:12936-1758825000-1758830700@lmcchurches.org
SUMMARY:The Confession of Faith in a Mennonite Perspective (pt.2)
DESCRIPTION:
URL:https://lmcchurches.org/event/the-confession-of-faith-in-a-mennonite-perspective-pt-2/2025-09-25/
LOCATION:LMC Churches\, 450 N Prince St.\, Lancaster\, PA\, 17603\, United States
GEO:40.0452294;-76.3093616
X-APPLE-STRUCTURED-LOCATION;VALUE=URI;X-ADDRESS=LMC Churches 450 N Prince St. Lancaster PA 17603 United States;X-APPLE-RADIUS=500;X-TITLE=450 N Prince St.:geo:-76.3093616,40.0452294
END:VEVENT
BEGIN:VEVENT
DTSTART;TZID=America/New_York:20250923T183000
DTEND;TZID=America/New_York:20250923T200500
DTSTAMP:20260421T053743
CREATED:20250815T181104Z
LAST-MODIFIED:20250815T182512Z
UID:12935-1758652200-1758657900@lmcchurches.org
SUMMARY:The Confession of Faith in a Mennonite Perspective (pt.2)
DESCRIPTION:
URL:https://lmcchurches.org/event/the-confession-of-faith-in-a-mennonite-perspective-pt-2/2025-09-23/
LOCATION:LMC Churches\, 450 N Prince St.\, Lancaster\, PA\, 17603\, United States
GEO:40.0452294;-76.3093616
X-APPLE-STRUCTURED-LOCATION;VALUE=URI;X-ADDRESS=LMC Churches 450 N Prince St. Lancaster PA 17603 United States;X-APPLE-RADIUS=500;X-TITLE=450 N Prince St.:geo:-76.3093616,40.0452294
END:VEVENT
BEGIN:VEVENT
DTSTART;TZID=America/New_York:20250919T083000
DTEND;TZID=America/New_York:20250919T130000
DTSTAMP:20260421T053743
CREATED:20241231T160505Z
LAST-MODIFIED:20250102T182524Z
UID:12008-1758270600-1758286800@lmcchurches.org
SUMMARY:Conference Executive Council
DESCRIPTION:In the Salunga room.
URL:https://lmcchurches.org/event/conference-executive-council-2/2025-09-19/
LOCATION:LMC Churches\, 450 N Prince St.\, Lancaster\, PA\, 17603\, United States
GEO:40.0452294;-76.3093616
X-APPLE-STRUCTURED-LOCATION;VALUE=URI;X-ADDRESS=LMC Churches 450 N Prince St. Lancaster PA 17603 United States;X-APPLE-RADIUS=500;X-TITLE=450 N Prince St.:geo:-76.3093616,40.0452294
END:VEVENT
BEGIN:VEVENT
DTSTART;TZID=America/New_York:20250918T183000
DTEND;TZID=America/New_York:20250918T200500
DTSTAMP:20260421T053743
CREATED:20250815T181104Z
LAST-MODIFIED:20250815T182512Z
UID:12934-1758220200-1758225900@lmcchurches.org
SUMMARY:The Confession of Faith in a Mennonite Perspective (pt.2)
DESCRIPTION:
URL:https://lmcchurches.org/event/the-confession-of-faith-in-a-mennonite-perspective-pt-2/2025-09-18/
LOCATION:LMC Churches\, 450 N Prince St.\, Lancaster\, PA\, 17603\, United States
GEO:40.0452294;-76.3093616
X-APPLE-STRUCTURED-LOCATION;VALUE=URI;X-ADDRESS=LMC Churches 450 N Prince St. Lancaster PA 17603 United States;X-APPLE-RADIUS=500;X-TITLE=450 N Prince St.:geo:-76.3093616,40.0452294
END:VEVENT
BEGIN:VEVENT
DTSTART;TZID=America/New_York:20250916T183000
DTEND;TZID=America/New_York:20250916T200500
DTSTAMP:20260421T053743
CREATED:20250815T181104Z
LAST-MODIFIED:20250815T182512Z
UID:12933-1758047400-1758053100@lmcchurches.org
SUMMARY:The Confession of Faith in a Mennonite Perspective (pt.2)
DESCRIPTION:
URL:https://lmcchurches.org/event/the-confession-of-faith-in-a-mennonite-perspective-pt-2/2025-09-16/
LOCATION:LMC Churches\, 450 N Prince St.\, Lancaster\, PA\, 17603\, United States
GEO:40.0452294;-76.3093616
X-APPLE-STRUCTURED-LOCATION;VALUE=URI;X-ADDRESS=LMC Churches 450 N Prince St. Lancaster PA 17603 United States;X-APPLE-RADIUS=500;X-TITLE=450 N Prince St.:geo:-76.3093616,40.0452294
END:VEVENT
BEGIN:VEVENT
DTSTART;TZID=America/New_York:20250911T183000
DTEND;TZID=America/New_York:20250911T200500
DTSTAMP:20260421T053743
CREATED:20250815T181104Z
LAST-MODIFIED:20250815T182512Z
UID:12932-1757615400-1757621100@lmcchurches.org
SUMMARY:The Confession of Faith in a Mennonite Perspective (pt.2)
DESCRIPTION:
URL:https://lmcchurches.org/event/the-confession-of-faith-in-a-mennonite-perspective-pt-2/2025-09-11/
LOCATION:LMC Churches\, 450 N Prince St.\, Lancaster\, PA\, 17603\, United States
GEO:40.0452294;-76.3093616
X-APPLE-STRUCTURED-LOCATION;VALUE=URI;X-ADDRESS=LMC Churches 450 N Prince St. Lancaster PA 17603 United States;X-APPLE-RADIUS=500;X-TITLE=450 N Prince St.:geo:-76.3093616,40.0452294
END:VEVENT
BEGIN:VEVENT
DTSTART;TZID=America/New_York:20250909T183000
DTEND;TZID=America/New_York:20250909T200500
DTSTAMP:20260421T053743
CREATED:20250815T181104Z
LAST-MODIFIED:20250815T182512Z
UID:12931-1757442600-1757448300@lmcchurches.org
SUMMARY:The Confession of Faith in a Mennonite Perspective (pt.2)
DESCRIPTION:
URL:https://lmcchurches.org/event/the-confession-of-faith-in-a-mennonite-perspective-pt-2/2025-09-09/
LOCATION:LMC Churches\, 450 N Prince St.\, Lancaster\, PA\, 17603\, United States
GEO:40.0452294;-76.3093616
X-APPLE-STRUCTURED-LOCATION;VALUE=URI;X-ADDRESS=LMC Churches 450 N Prince St. Lancaster PA 17603 United States;X-APPLE-RADIUS=500;X-TITLE=450 N Prince St.:geo:-76.3093616,40.0452294
END:VEVENT
BEGIN:VEVENT
DTSTART;TZID=America/New_York:20250905T080000
DTEND;TZID=America/New_York:20250905T090000
DTSTAMP:20260421T053743
CREATED:20240322T183226Z
LAST-MODIFIED:20240322T183226Z
UID:10864-1757059200-1757062800@lmcchurches.org
SUMMARY:LMC Women's Prayer Gathering
DESCRIPTION:Woman’s praying group\nWe invite you to come and pray with us about LMC.  For more information contact Marcia Mylin at (717)293-5246 ext. 114
URL:https://lmcchurches.org/event/lmc-womens-prayer-gathering-2/2025-09-05/
LOCATION:LMC Churches\, 450 N Prince St.\, Lancaster\, PA\, 17603\, United States
ORGANIZER;CN="LMC Churches":MAILTO:information@lmcchurches.org
GEO:40.0452294;-76.3093616
X-APPLE-STRUCTURED-LOCATION;VALUE=URI;X-ADDRESS=LMC Churches 450 N Prince St. Lancaster PA 17603 United States;X-APPLE-RADIUS=500;X-TITLE=450 N Prince St.:geo:-76.3093616,40.0452294
END:VEVENT
BEGIN:VEVENT
DTSTART;TZID=America/New_York:20250801T080000
DTEND;TZID=America/New_York:20250801T090000
DTSTAMP:20260421T053743
CREATED:20240322T183226Z
LAST-MODIFIED:20240322T183226Z
UID:10863-1754035200-1754038800@lmcchurches.org
SUMMARY:LMC Women's Prayer Gathering
DESCRIPTION:Woman’s praying group\nWe invite you to come and pray with us about LMC.  For more information contact Marcia Mylin at (717)293-5246 ext. 114
URL:https://lmcchurches.org/event/lmc-womens-prayer-gathering-2/2025-08-01/
LOCATION:LMC Churches\, 450 N Prince St.\, Lancaster\, PA\, 17603\, United States
ORGANIZER;CN="LMC Churches":MAILTO:information@lmcchurches.org
GEO:40.0452294;-76.3093616
X-APPLE-STRUCTURED-LOCATION;VALUE=URI;X-ADDRESS=LMC Churches 450 N Prince St. Lancaster PA 17603 United States;X-APPLE-RADIUS=500;X-TITLE=450 N Prince St.:geo:-76.3093616,40.0452294
END:VEVENT
BEGIN:VEVENT
DTSTART;TZID=America/New_York:20250718T083000
DTEND;TZID=America/New_York:20250718T130000
DTSTAMP:20260421T053743
CREATED:20241231T160505Z
LAST-MODIFIED:20250102T182524Z
UID:12007-1752827400-1752843600@lmcchurches.org
SUMMARY:Conference Executive Council
DESCRIPTION:In the Salunga room.
URL:https://lmcchurches.org/event/conference-executive-council-2/2025-07-18/
LOCATION:LMC Churches\, 450 N Prince St.\, Lancaster\, PA\, 17603\, United States
GEO:40.0452294;-76.3093616
X-APPLE-STRUCTURED-LOCATION;VALUE=URI;X-ADDRESS=LMC Churches 450 N Prince St. Lancaster PA 17603 United States;X-APPLE-RADIUS=500;X-TITLE=450 N Prince St.:geo:-76.3093616,40.0452294
END:VEVENT
BEGIN:VEVENT
DTSTART;TZID=America/New_York:20250704T080000
DTEND;TZID=America/New_York:20250704T090000
DTSTAMP:20260421T053743
CREATED:20240322T183226Z
LAST-MODIFIED:20240322T183226Z
UID:10862-1751616000-1751619600@lmcchurches.org
SUMMARY:LMC Women's Prayer Gathering
DESCRIPTION:Woman’s praying group\nWe invite you to come and pray with us about LMC.  For more information contact Marcia Mylin at (717)293-5246 ext. 114
URL:https://lmcchurches.org/event/lmc-womens-prayer-gathering-2/2025-07-04/
LOCATION:LMC Churches\, 450 N Prince St.\, Lancaster\, PA\, 17603\, United States
ORGANIZER;CN="LMC Churches":MAILTO:information@lmcchurches.org
GEO:40.0452294;-76.3093616
X-APPLE-STRUCTURED-LOCATION;VALUE=URI;X-ADDRESS=LMC Churches 450 N Prince St. Lancaster PA 17603 United States;X-APPLE-RADIUS=500;X-TITLE=450 N Prince St.:geo:-76.3093616,40.0452294
END:VEVENT
BEGIN:VEVENT
DTSTART;TZID=America/New_York:20250606T080000
DTEND;TZID=America/New_York:20250606T090000
DTSTAMP:20260421T053743
CREATED:20240322T183226Z
LAST-MODIFIED:20240322T183226Z
UID:10861-1749196800-1749200400@lmcchurches.org
SUMMARY:LMC Women's Prayer Gathering
DESCRIPTION:Woman’s praying group\nWe invite you to come and pray with us about LMC.  For more information contact Marcia Mylin at (717)293-5246 ext. 114
URL:https://lmcchurches.org/event/lmc-womens-prayer-gathering-2/2025-06-06/
LOCATION:LMC Churches\, 450 N Prince St.\, Lancaster\, PA\, 17603\, United States
ORGANIZER;CN="LMC Churches":MAILTO:information@lmcchurches.org
GEO:40.0452294;-76.3093616
X-APPLE-STRUCTURED-LOCATION;VALUE=URI;X-ADDRESS=LMC Churches 450 N Prince St. Lancaster PA 17603 United States;X-APPLE-RADIUS=500;X-TITLE=450 N Prince St.:geo:-76.3093616,40.0452294
END:VEVENT
BEGIN:VEVENT
DTSTART;TZID=America/New_York:20250516T083000
DTEND;TZID=America/New_York:20250516T130000
DTSTAMP:20260421T053743
CREATED:20241231T160505Z
LAST-MODIFIED:20250102T182524Z
UID:12006-1747384200-1747400400@lmcchurches.org
SUMMARY:Conference Executive Council
DESCRIPTION:In the Salunga room.
URL:https://lmcchurches.org/event/conference-executive-council-2/2025-05-16/
LOCATION:LMC Churches\, 450 N Prince St.\, Lancaster\, PA\, 17603\, United States
GEO:40.0452294;-76.3093616
X-APPLE-STRUCTURED-LOCATION;VALUE=URI;X-ADDRESS=LMC Churches 450 N Prince St. Lancaster PA 17603 United States;X-APPLE-RADIUS=500;X-TITLE=450 N Prince St.:geo:-76.3093616,40.0452294
END:VEVENT
BEGIN:VEVENT
DTSTART;TZID=America/New_York:20250515T083000
DTEND;TZID=America/New_York:20250515T153000
DTSTAMP:20260421T053743
CREATED:20250102T191124Z
LAST-MODIFIED:20250320T005320Z
UID:12019-1747297800-1747323000@lmcchurches.org
SUMMARY:Global Delegate Resource Day 2025
DESCRIPTION:The theme for our resourcing day this year is “Discipleship on the Road.” The purpose of our theme is to recognize that God is able to shape and transform us in very unique ways as we engage cross-culturally. As people who connect with the global church\, we have the opportunity to “bring people with us” so that others may experience discipleship that happens as we engage cross-culturally.
URL:https://lmcchurches.org/event/global-delegate-resource-day/
LOCATION:LMC Churches\, 450 N Prince St.\, Lancaster\, PA\, 17603\, United States
GEO:40.0452294;-76.3093616
X-APPLE-STRUCTURED-LOCATION;VALUE=URI;X-ADDRESS=LMC Churches 450 N Prince St. Lancaster PA 17603 United States;X-APPLE-RADIUS=500;X-TITLE=450 N Prince St.:geo:-76.3093616,40.0452294
END:VEVENT
BEGIN:VEVENT
DTSTART;TZID=America/New_York:20250502T080000
DTEND;TZID=America/New_York:20250502T090000
DTSTAMP:20260421T053743
CREATED:20240322T183226Z
LAST-MODIFIED:20240322T183226Z
UID:10860-1746172800-1746176400@lmcchurches.org
SUMMARY:LMC Women's Prayer Gathering
DESCRIPTION:Woman’s praying group\nWe invite you to come and pray with us about LMC.  For more information contact Marcia Mylin at (717)293-5246 ext. 114
URL:https://lmcchurches.org/event/lmc-womens-prayer-gathering-2/2025-05-02/
LOCATION:LMC Churches\, 450 N Prince St.\, Lancaster\, PA\, 17603\, United States
ORGANIZER;CN="LMC Churches":MAILTO:information@lmcchurches.org
GEO:40.0452294;-76.3093616
X-APPLE-STRUCTURED-LOCATION;VALUE=URI;X-ADDRESS=LMC Churches 450 N Prince St. Lancaster PA 17603 United States;X-APPLE-RADIUS=500;X-TITLE=450 N Prince St.:geo:-76.3093616,40.0452294
END:VEVENT
BEGIN:VEVENT
DTSTART;TZID=America/New_York:20250404T080000
DTEND;TZID=America/New_York:20250404T090000
DTSTAMP:20260421T053743
CREATED:20240322T183226Z
LAST-MODIFIED:20240322T183226Z
UID:10859-1743753600-1743757200@lmcchurches.org
SUMMARY:LMC Women's Prayer Gathering
DESCRIPTION:Woman’s praying group\nWe invite you to come and pray with us about LMC.  For more information contact Marcia Mylin at (717)293-5246 ext. 114
URL:https://lmcchurches.org/event/lmc-womens-prayer-gathering-2/2025-04-04/
LOCATION:LMC Churches\, 450 N Prince St.\, Lancaster\, PA\, 17603\, United States
ORGANIZER;CN="LMC Churches":MAILTO:information@lmcchurches.org
GEO:40.0452294;-76.3093616
X-APPLE-STRUCTURED-LOCATION;VALUE=URI;X-ADDRESS=LMC Churches 450 N Prince St. Lancaster PA 17603 United States;X-APPLE-RADIUS=500;X-TITLE=450 N Prince St.:geo:-76.3093616,40.0452294
END:VEVENT
BEGIN:VEVENT
DTSTART;TZID=America/New_York:20250321T083000
DTEND;TZID=America/New_York:20250321T130000
DTSTAMP:20260421T053743
CREATED:20241231T160505Z
LAST-MODIFIED:20250102T182524Z
UID:12005-1742545800-1742562000@lmcchurches.org
SUMMARY:Conference Executive Council
DESCRIPTION:In the Salunga room.
URL:https://lmcchurches.org/event/conference-executive-council-2/2025-03-21/
LOCATION:LMC Churches\, 450 N Prince St.\, Lancaster\, PA\, 17603\, United States
GEO:40.0452294;-76.3093616
X-APPLE-STRUCTURED-LOCATION;VALUE=URI;X-ADDRESS=LMC Churches 450 N Prince St. Lancaster PA 17603 United States;X-APPLE-RADIUS=500;X-TITLE=450 N Prince St.:geo:-76.3093616,40.0452294
END:VEVENT
BEGIN:VEVENT
DTSTART;TZID=America/New_York:20250307T080000
DTEND;TZID=America/New_York:20250307T090000
DTSTAMP:20260421T053743
CREATED:20240322T183226Z
LAST-MODIFIED:20240322T183226Z
UID:10858-1741334400-1741338000@lmcchurches.org
SUMMARY:LMC Women's Prayer Gathering
DESCRIPTION:Woman’s praying group\nWe invite you to come and pray with us about LMC.  For more information contact Marcia Mylin at (717)293-5246 ext. 114
URL:https://lmcchurches.org/event/lmc-womens-prayer-gathering-2/2025-03-07/
LOCATION:LMC Churches\, 450 N Prince St.\, Lancaster\, PA\, 17603\, United States
ORGANIZER;CN="LMC Churches":MAILTO:information@lmcchurches.org
GEO:40.0452294;-76.3093616
X-APPLE-STRUCTURED-LOCATION;VALUE=URI;X-ADDRESS=LMC Churches 450 N Prince St. Lancaster PA 17603 United States;X-APPLE-RADIUS=500;X-TITLE=450 N Prince St.:geo:-76.3093616,40.0452294
END:VEVENT
BEGIN:VEVENT
DTSTART;TZID=America/New_York:20250207T080000
DTEND;TZID=America/New_York:20250207T090000
DTSTAMP:20260421T053743
CREATED:20240322T183226Z
LAST-MODIFIED:20240322T183226Z
UID:10857-1738915200-1738918800@lmcchurches.org
SUMMARY:LMC Women's Prayer Gathering
DESCRIPTION:Woman’s praying group\nWe invite you to come and pray with us about LMC.  For more information contact Marcia Mylin at (717)293-5246 ext. 114
URL:https://lmcchurches.org/event/lmc-womens-prayer-gathering-2/2025-02-07/
LOCATION:LMC Churches\, 450 N Prince St.\, Lancaster\, PA\, 17603\, United States
ORGANIZER;CN="LMC Churches":MAILTO:information@lmcchurches.org
GEO:40.0452294;-76.3093616
X-APPLE-STRUCTURED-LOCATION;VALUE=URI;X-ADDRESS=LMC Churches 450 N Prince St. Lancaster PA 17603 United States;X-APPLE-RADIUS=500;X-TITLE=450 N Prince St.:geo:-76.3093616,40.0452294
END:VEVENT
BEGIN:VEVENT
DTSTART;TZID=America/New_York:20250117T083000
DTEND;TZID=America/New_York:20250117T130000
DTSTAMP:20260421T053743
CREATED:20241231T160505Z
LAST-MODIFIED:20250102T182524Z
UID:11982-1737102600-1737118800@lmcchurches.org
SUMMARY:Conference Executive Council
DESCRIPTION:In the Salunga room.
URL:https://lmcchurches.org/event/conference-executive-council-2/2025-01-17/
LOCATION:LMC Churches\, 450 N Prince St.\, Lancaster\, PA\, 17603\, United States
GEO:40.0452294;-76.3093616
X-APPLE-STRUCTURED-LOCATION;VALUE=URI;X-ADDRESS=LMC Churches 450 N Prince St. Lancaster PA 17603 United States;X-APPLE-RADIUS=500;X-TITLE=450 N Prince St.:geo:-76.3093616,40.0452294
END:VEVENT
BEGIN:VEVENT
DTSTART;TZID=America/New_York:20250108T080000
DTEND;TZID=America/New_York:20250108T160000
DTSTAMP:20260421T053743
CREATED:20241108T180228Z
LAST-MODIFIED:20241108T180249Z
UID:11788-1736323200-1736352000@lmcchurches.org
SUMMARY:Credentialing Commission
DESCRIPTION:For more information contact Sherri Martin at smartin@lmcchurches.org
URL:https://lmcchurches.org/event/credentialing-commission-2/
LOCATION:LMC Churches\, 450 N Prince St.\, Lancaster\, PA\, 17603\, United States
GEO:40.0452294;-76.3093616
X-APPLE-STRUCTURED-LOCATION;VALUE=URI;X-ADDRESS=LMC Churches 450 N Prince St. Lancaster PA 17603 United States;X-APPLE-RADIUS=500;X-TITLE=450 N Prince St.:geo:-76.3093616,40.0452294
END:VEVENT
BEGIN:VEVENT
DTSTART;TZID=America/New_York:20250103T080000
DTEND;TZID=America/New_York:20250103T090000
DTSTAMP:20260421T053743
CREATED:20240322T183226Z
LAST-MODIFIED:20240322T183226Z
UID:10856-1735891200-1735894800@lmcchurches.org
SUMMARY:LMC Women's Prayer Gathering
DESCRIPTION:Woman’s praying group\nWe invite you to come and pray with us about LMC.  For more information contact Marcia Mylin at (717)293-5246 ext. 114
URL:https://lmcchurches.org/event/lmc-womens-prayer-gathering-2/2025-01-03/
LOCATION:LMC Churches\, 450 N Prince St.\, Lancaster\, PA\, 17603\, United States
ORGANIZER;CN="LMC Churches":MAILTO:information@lmcchurches.org
GEO:40.0452294;-76.3093616
X-APPLE-STRUCTURED-LOCATION;VALUE=URI;X-ADDRESS=LMC Churches 450 N Prince St. Lancaster PA 17603 United States;X-APPLE-RADIUS=500;X-TITLE=450 N Prince St.:geo:-76.3093616,40.0452294
END:VEVENT
BEGIN:VEVENT
DTSTART;TZID=America/New_York:20241206T080000
DTEND;TZID=America/New_York:20241206T090000
DTSTAMP:20260421T053743
CREATED:20240322T183226Z
LAST-MODIFIED:20240322T183226Z
UID:10855-1733472000-1733475600@lmcchurches.org
SUMMARY:LMC Women's Prayer Gathering
DESCRIPTION:Woman’s praying group\nWe invite you to come and pray with us about LMC.  For more information contact Marcia Mylin at (717)293-5246 ext. 114
URL:https://lmcchurches.org/event/lmc-womens-prayer-gathering-2/2024-12-06/
LOCATION:LMC Churches\, 450 N Prince St.\, Lancaster\, PA\, 17603\, United States
ORGANIZER;CN="LMC Churches":MAILTO:information@lmcchurches.org
GEO:40.0452294;-76.3093616
X-APPLE-STRUCTURED-LOCATION;VALUE=URI;X-ADDRESS=LMC Churches 450 N Prince St. Lancaster PA 17603 United States;X-APPLE-RADIUS=500;X-TITLE=450 N Prince St.:geo:-76.3093616,40.0452294
END:VEVENT
BEGIN:VEVENT
DTSTART;TZID=America/New_York:20241115T080000
DTEND;TZID=America/New_York:20241115T160000
DTSTAMP:20260421T053743
CREATED:20240108T181953Z
LAST-MODIFIED:20240108T181953Z
UID:10370-1731657600-1731686400@lmcchurches.org
SUMMARY:Conference Executive Council
DESCRIPTION:
URL:https://lmcchurches.org/event/conference-executive-council/2024-11-15/
LOCATION:LMC Churches\, 450 N Prince St.\, Lancaster\, PA\, 17603\, United States
ORGANIZER;CN="LMC Churches":MAILTO:information@lmcchurches.org
GEO:40.0452294;-76.3093616
X-APPLE-STRUCTURED-LOCATION;VALUE=URI;X-ADDRESS=LMC Churches 450 N Prince St. Lancaster PA 17603 United States;X-APPLE-RADIUS=500;X-TITLE=450 N Prince St.:geo:-76.3093616,40.0452294
END:VEVENT
BEGIN:VEVENT
DTSTART;TZID=America/New_York:20241101T080000
DTEND;TZID=America/New_York:20241101T090000
DTSTAMP:20260421T053743
CREATED:20240322T183226Z
LAST-MODIFIED:20240322T183226Z
UID:10854-1730448000-1730451600@lmcchurches.org
SUMMARY:LMC Women's Prayer Gathering
DESCRIPTION:Woman’s praying group\nWe invite you to come and pray with us about LMC.  For more information contact Marcia Mylin at (717)293-5246 ext. 114
URL:https://lmcchurches.org/event/lmc-womens-prayer-gathering-2/2024-11-01/
LOCATION:LMC Churches\, 450 N Prince St.\, Lancaster\, PA\, 17603\, United States
ORGANIZER;CN="LMC Churches":MAILTO:information@lmcchurches.org
GEO:40.0452294;-76.3093616
X-APPLE-STRUCTURED-LOCATION;VALUE=URI;X-ADDRESS=LMC Churches 450 N Prince St. Lancaster PA 17603 United States;X-APPLE-RADIUS=500;X-TITLE=450 N Prince St.:geo:-76.3093616,40.0452294
END:VEVENT
BEGIN:VEVENT
DTSTART;TZID=America/New_York:20241004T080000
DTEND;TZID=America/New_York:20241004T090000
DTSTAMP:20260421T053743
CREATED:20240322T183226Z
LAST-MODIFIED:20240322T183226Z
UID:10853-1728028800-1728032400@lmcchurches.org
SUMMARY:LMC Women's Prayer Gathering
DESCRIPTION:Woman’s praying group\nWe invite you to come and pray with us about LMC.  For more information contact Marcia Mylin at (717)293-5246 ext. 114
URL:https://lmcchurches.org/event/lmc-womens-prayer-gathering-2/2024-10-04/
LOCATION:LMC Churches\, 450 N Prince St.\, Lancaster\, PA\, 17603\, United States
ORGANIZER;CN="LMC Churches":MAILTO:information@lmcchurches.org
GEO:40.0452294;-76.3093616
X-APPLE-STRUCTURED-LOCATION;VALUE=URI;X-ADDRESS=LMC Churches 450 N Prince St. Lancaster PA 17603 United States;X-APPLE-RADIUS=500;X-TITLE=450 N Prince St.:geo:-76.3093616,40.0452294
END:VEVENT
BEGIN:VEVENT
DTSTART;TZID=America/New_York:20240920T080000
DTEND;TZID=America/New_York:20240920T160000
DTSTAMP:20260421T053743
CREATED:20240108T181953Z
LAST-MODIFIED:20240108T181953Z
UID:10369-1726819200-1726848000@lmcchurches.org
SUMMARY:Conference Executive Council
DESCRIPTION:
URL:https://lmcchurches.org/event/conference-executive-council/2024-09-20/
LOCATION:LMC Churches\, 450 N Prince St.\, Lancaster\, PA\, 17603\, United States
ORGANIZER;CN="LMC Churches":MAILTO:information@lmcchurches.org
GEO:40.0452294;-76.3093616
X-APPLE-STRUCTURED-LOCATION;VALUE=URI;X-ADDRESS=LMC Churches 450 N Prince St. Lancaster PA 17603 United States;X-APPLE-RADIUS=500;X-TITLE=450 N Prince St.:geo:-76.3093616,40.0452294
END:VEVENT
BEGIN:VEVENT
DTSTART;TZID=America/New_York:20240906T080000
DTEND;TZID=America/New_York:20240906T090000
DTSTAMP:20260421T053743
CREATED:20240322T183226Z
LAST-MODIFIED:20240322T183226Z
UID:10852-1725609600-1725613200@lmcchurches.org
SUMMARY:LMC Women's Prayer Gathering
DESCRIPTION:Woman’s praying group\nWe invite you to come and pray with us about LMC.  For more information contact Marcia Mylin at (717)293-5246 ext. 114
URL:https://lmcchurches.org/event/lmc-womens-prayer-gathering-2/2024-09-06/
LOCATION:LMC Churches\, 450 N Prince St.\, Lancaster\, PA\, 17603\, United States
ORGANIZER;CN="LMC Churches":MAILTO:information@lmcchurches.org
GEO:40.0452294;-76.3093616
X-APPLE-STRUCTURED-LOCATION;VALUE=URI;X-ADDRESS=LMC Churches 450 N Prince St. Lancaster PA 17603 United States;X-APPLE-RADIUS=500;X-TITLE=450 N Prince St.:geo:-76.3093616,40.0452294
END:VEVENT
BEGIN:VEVENT
DTSTART;TZID=America/New_York:20240802T080000
DTEND;TZID=America/New_York:20240802T090000
DTSTAMP:20260421T053743
CREATED:20240322T183226Z
LAST-MODIFIED:20240322T183226Z
UID:10851-1722585600-1722589200@lmcchurches.org
SUMMARY:LMC Women's Prayer Gathering
DESCRIPTION:Woman’s praying group\nWe invite you to come and pray with us about LMC.  For more information contact Marcia Mylin at (717)293-5246 ext. 114
URL:https://lmcchurches.org/event/lmc-womens-prayer-gathering-2/2024-08-02/
LOCATION:LMC Churches\, 450 N Prince St.\, Lancaster\, PA\, 17603\, United States
ORGANIZER;CN="LMC Churches":MAILTO:information@lmcchurches.org
GEO:40.0452294;-76.3093616
X-APPLE-STRUCTURED-LOCATION;VALUE=URI;X-ADDRESS=LMC Churches 450 N Prince St. Lancaster PA 17603 United States;X-APPLE-RADIUS=500;X-TITLE=450 N Prince St.:geo:-76.3093616,40.0452294
END:VEVENT
BEGIN:VEVENT
DTSTART;TZID=America/New_York:20240719T080000
DTEND;TZID=America/New_York:20240719T160000
DTSTAMP:20260421T053743
CREATED:20240108T181953Z
LAST-MODIFIED:20240108T181953Z
UID:10368-1721376000-1721404800@lmcchurches.org
SUMMARY:Conference Executive Council
DESCRIPTION:
URL:https://lmcchurches.org/event/conference-executive-council/2024-07-19/
LOCATION:LMC Churches\, 450 N Prince St.\, Lancaster\, PA\, 17603\, United States
ORGANIZER;CN="LMC Churches":MAILTO:information@lmcchurches.org
GEO:40.0452294;-76.3093616
X-APPLE-STRUCTURED-LOCATION;VALUE=URI;X-ADDRESS=LMC Churches 450 N Prince St. Lancaster PA 17603 United States;X-APPLE-RADIUS=500;X-TITLE=450 N Prince St.:geo:-76.3093616,40.0452294
END:VEVENT
END:VCALENDAR