BEGIN:VCALENDAR
VERSION:2.0
PRODID:-//LMC – a fellowship of anabaptist churches - ECPv6.15.20//NONSGML v1.0//EN
CALSCALE:GREGORIAN
METHOD:PUBLISH
X-ORIGINAL-URL:https://lmcchurches.org
X-WR-CALDESC:Events for LMC – a fellowship of anabaptist churches
REFRESH-INTERVAL;VALUE=DURATION:PT1H
X-Robots-Tag:noindex
X-PUBLISHED-TTL:PT1H
BEGIN:VTIMEZONE
TZID:America/New_York
BEGIN:DAYLIGHT
TZOFFSETFROM:-0500
TZOFFSETTO:-0400
TZNAME:EDT
DTSTART:20180311T070000
END:DAYLIGHT
BEGIN:STANDARD
TZOFFSETFROM:-0400
TZOFFSETTO:-0500
TZNAME:EST
DTSTART:20181104T060000
END:STANDARD
BEGIN:DAYLIGHT
TZOFFSETFROM:-0500
TZOFFSETTO:-0400
TZNAME:EDT
DTSTART:20190310T070000
END:DAYLIGHT
BEGIN:STANDARD
TZOFFSETFROM:-0400
TZOFFSETTO:-0500
TZNAME:EST
DTSTART:20191103T060000
END:STANDARD
BEGIN:DAYLIGHT
TZOFFSETFROM:-0500
TZOFFSETTO:-0400
TZNAME:EDT
DTSTART:20200308T070000
END:DAYLIGHT
BEGIN:STANDARD
TZOFFSETFROM:-0400
TZOFFSETTO:-0500
TZNAME:EST
DTSTART:20201101T060000
END:STANDARD
BEGIN:DAYLIGHT
TZOFFSETFROM:-0500
TZOFFSETTO:-0400
TZNAME:EDT
DTSTART:20210314T070000
END:DAYLIGHT
BEGIN:STANDARD
TZOFFSETFROM:-0400
TZOFFSETTO:-0500
TZNAME:EST
DTSTART:20211107T060000
END:STANDARD
BEGIN:DAYLIGHT
TZOFFSETFROM:-0500
TZOFFSETTO:-0400
TZNAME:EDT
DTSTART:20220313T070000
END:DAYLIGHT
BEGIN:STANDARD
TZOFFSETFROM:-0400
TZOFFSETTO:-0500
TZNAME:EST
DTSTART:20221106T060000
END:STANDARD
BEGIN:DAYLIGHT
TZOFFSETFROM:-0500
TZOFFSETTO:-0400
TZNAME:EDT
DTSTART:20230312T070000
END:DAYLIGHT
BEGIN:STANDARD
TZOFFSETFROM:-0400
TZOFFSETTO:-0500
TZNAME:EST
DTSTART:20231105T060000
END:STANDARD
BEGIN:DAYLIGHT
TZOFFSETFROM:-0500
TZOFFSETTO:-0400
TZNAME:EDT
DTSTART:20240310T070000
END:DAYLIGHT
BEGIN:STANDARD
TZOFFSETFROM:-0400
TZOFFSETTO:-0500
TZNAME:EST
DTSTART:20241103T060000
END:STANDARD
BEGIN:DAYLIGHT
TZOFFSETFROM:-0500
TZOFFSETTO:-0400
TZNAME:EDT
DTSTART:20250309T070000
END:DAYLIGHT
BEGIN:STANDARD
TZOFFSETFROM:-0400
TZOFFSETTO:-0500
TZNAME:EST
DTSTART:20251102T060000
END:STANDARD
BEGIN:DAYLIGHT
TZOFFSETFROM:-0500
TZOFFSETTO:-0400
TZNAME:EDT
DTSTART:20260308T070000
END:DAYLIGHT
BEGIN:STANDARD
TZOFFSETFROM:-0400
TZOFFSETTO:-0500
TZNAME:EST
DTSTART:20261101T060000
END:STANDARD
END:VTIMEZONE
BEGIN:VEVENT
DTSTART;TZID=America/New_York:20250108T080000
DTEND;TZID=America/New_York:20250108T160000
DTSTAMP:20260421T090150
CREATED:20241108T180228Z
LAST-MODIFIED:20241108T180249Z
UID:11788-1736323200-1736352000@lmcchurches.org
SUMMARY:Credentialing Commission
DESCRIPTION:For more information contact Sherri Martin at smartin@lmcchurches.org
URL:https://lmcchurches.org/event/credentialing-commission-2/
LOCATION:LMC Churches\, 450 N Prince St.\, Lancaster\, PA\, 17603\, United States
GEO:40.0452294;-76.3093616
X-APPLE-STRUCTURED-LOCATION;VALUE=URI;X-ADDRESS=LMC Churches 450 N Prince St. Lancaster PA 17603 United States;X-APPLE-RADIUS=500;X-TITLE=450 N Prince St.:geo:-76.3093616,40.0452294
END:VEVENT
BEGIN:VEVENT
DTSTART;TZID=America/New_York:20250103T080000
DTEND;TZID=America/New_York:20250103T090000
DTSTAMP:20260421T090150
CREATED:20240322T183226Z
LAST-MODIFIED:20240322T183226Z
UID:10856-1735891200-1735894800@lmcchurches.org
SUMMARY:LMC Women's Prayer Gathering
DESCRIPTION:Woman’s praying group\nWe invite you to come and pray with us about LMC.  For more information contact Marcia Mylin at (717)293-5246 ext. 114
URL:https://lmcchurches.org/event/lmc-womens-prayer-gathering-2/2025-01-03/
LOCATION:LMC Churches\, 450 N Prince St.\, Lancaster\, PA\, 17603\, United States
ORGANIZER;CN="LMC Churches":MAILTO:information@lmcchurches.org
GEO:40.0452294;-76.3093616
X-APPLE-STRUCTURED-LOCATION;VALUE=URI;X-ADDRESS=LMC Churches 450 N Prince St. Lancaster PA 17603 United States;X-APPLE-RADIUS=500;X-TITLE=450 N Prince St.:geo:-76.3093616,40.0452294
END:VEVENT
BEGIN:VEVENT
DTSTART;TZID=America/New_York:20241206T080000
DTEND;TZID=America/New_York:20241206T090000
DTSTAMP:20260421T090150
CREATED:20240322T183226Z
LAST-MODIFIED:20240322T183226Z
UID:10855-1733472000-1733475600@lmcchurches.org
SUMMARY:LMC Women's Prayer Gathering
DESCRIPTION:Woman’s praying group\nWe invite you to come and pray with us about LMC.  For more information contact Marcia Mylin at (717)293-5246 ext. 114
URL:https://lmcchurches.org/event/lmc-womens-prayer-gathering-2/2024-12-06/
LOCATION:LMC Churches\, 450 N Prince St.\, Lancaster\, PA\, 17603\, United States
ORGANIZER;CN="LMC Churches":MAILTO:information@lmcchurches.org
GEO:40.0452294;-76.3093616
X-APPLE-STRUCTURED-LOCATION;VALUE=URI;X-ADDRESS=LMC Churches 450 N Prince St. Lancaster PA 17603 United States;X-APPLE-RADIUS=500;X-TITLE=450 N Prince St.:geo:-76.3093616,40.0452294
END:VEVENT
BEGIN:VEVENT
DTSTART;TZID=America/New_York:20241115T080000
DTEND;TZID=America/New_York:20241115T160000
DTSTAMP:20260421T090150
CREATED:20240108T181953Z
LAST-MODIFIED:20240108T181953Z
UID:10370-1731657600-1731686400@lmcchurches.org
SUMMARY:Conference Executive Council
DESCRIPTION:
URL:https://lmcchurches.org/event/conference-executive-council/2024-11-15/
LOCATION:LMC Churches\, 450 N Prince St.\, Lancaster\, PA\, 17603\, United States
ORGANIZER;CN="LMC Churches":MAILTO:information@lmcchurches.org
GEO:40.0452294;-76.3093616
X-APPLE-STRUCTURED-LOCATION;VALUE=URI;X-ADDRESS=LMC Churches 450 N Prince St. Lancaster PA 17603 United States;X-APPLE-RADIUS=500;X-TITLE=450 N Prince St.:geo:-76.3093616,40.0452294
END:VEVENT
BEGIN:VEVENT
DTSTART;TZID=America/New_York:20241101T080000
DTEND;TZID=America/New_York:20241101T090000
DTSTAMP:20260421T090150
CREATED:20240322T183226Z
LAST-MODIFIED:20240322T183226Z
UID:10854-1730448000-1730451600@lmcchurches.org
SUMMARY:LMC Women's Prayer Gathering
DESCRIPTION:Woman’s praying group\nWe invite you to come and pray with us about LMC.  For more information contact Marcia Mylin at (717)293-5246 ext. 114
URL:https://lmcchurches.org/event/lmc-womens-prayer-gathering-2/2024-11-01/
LOCATION:LMC Churches\, 450 N Prince St.\, Lancaster\, PA\, 17603\, United States
ORGANIZER;CN="LMC Churches":MAILTO:information@lmcchurches.org
GEO:40.0452294;-76.3093616
X-APPLE-STRUCTURED-LOCATION;VALUE=URI;X-ADDRESS=LMC Churches 450 N Prince St. Lancaster PA 17603 United States;X-APPLE-RADIUS=500;X-TITLE=450 N Prince St.:geo:-76.3093616,40.0452294
END:VEVENT
BEGIN:VEVENT
DTSTART;TZID=America/New_York:20241004T080000
DTEND;TZID=America/New_York:20241004T090000
DTSTAMP:20260421T090150
CREATED:20240322T183226Z
LAST-MODIFIED:20240322T183226Z
UID:10853-1728028800-1728032400@lmcchurches.org
SUMMARY:LMC Women's Prayer Gathering
DESCRIPTION:Woman’s praying group\nWe invite you to come and pray with us about LMC.  For more information contact Marcia Mylin at (717)293-5246 ext. 114
URL:https://lmcchurches.org/event/lmc-womens-prayer-gathering-2/2024-10-04/
LOCATION:LMC Churches\, 450 N Prince St.\, Lancaster\, PA\, 17603\, United States
ORGANIZER;CN="LMC Churches":MAILTO:information@lmcchurches.org
GEO:40.0452294;-76.3093616
X-APPLE-STRUCTURED-LOCATION;VALUE=URI;X-ADDRESS=LMC Churches 450 N Prince St. Lancaster PA 17603 United States;X-APPLE-RADIUS=500;X-TITLE=450 N Prince St.:geo:-76.3093616,40.0452294
END:VEVENT
BEGIN:VEVENT
DTSTART;TZID=America/New_York:20240920T080000
DTEND;TZID=America/New_York:20240920T160000
DTSTAMP:20260421T090150
CREATED:20240108T181953Z
LAST-MODIFIED:20240108T181953Z
UID:10369-1726819200-1726848000@lmcchurches.org
SUMMARY:Conference Executive Council
DESCRIPTION:
URL:https://lmcchurches.org/event/conference-executive-council/2024-09-20/
LOCATION:LMC Churches\, 450 N Prince St.\, Lancaster\, PA\, 17603\, United States
ORGANIZER;CN="LMC Churches":MAILTO:information@lmcchurches.org
GEO:40.0452294;-76.3093616
X-APPLE-STRUCTURED-LOCATION;VALUE=URI;X-ADDRESS=LMC Churches 450 N Prince St. Lancaster PA 17603 United States;X-APPLE-RADIUS=500;X-TITLE=450 N Prince St.:geo:-76.3093616,40.0452294
END:VEVENT
BEGIN:VEVENT
DTSTART;TZID=America/New_York:20240906T080000
DTEND;TZID=America/New_York:20240906T090000
DTSTAMP:20260421T090150
CREATED:20240322T183226Z
LAST-MODIFIED:20240322T183226Z
UID:10852-1725609600-1725613200@lmcchurches.org
SUMMARY:LMC Women's Prayer Gathering
DESCRIPTION:Woman’s praying group\nWe invite you to come and pray with us about LMC.  For more information contact Marcia Mylin at (717)293-5246 ext. 114
URL:https://lmcchurches.org/event/lmc-womens-prayer-gathering-2/2024-09-06/
LOCATION:LMC Churches\, 450 N Prince St.\, Lancaster\, PA\, 17603\, United States
ORGANIZER;CN="LMC Churches":MAILTO:information@lmcchurches.org
GEO:40.0452294;-76.3093616
X-APPLE-STRUCTURED-LOCATION;VALUE=URI;X-ADDRESS=LMC Churches 450 N Prince St. Lancaster PA 17603 United States;X-APPLE-RADIUS=500;X-TITLE=450 N Prince St.:geo:-76.3093616,40.0452294
END:VEVENT
BEGIN:VEVENT
DTSTART;TZID=America/New_York:20240802T080000
DTEND;TZID=America/New_York:20240802T090000
DTSTAMP:20260421T090150
CREATED:20240322T183226Z
LAST-MODIFIED:20240322T183226Z
UID:10851-1722585600-1722589200@lmcchurches.org
SUMMARY:LMC Women's Prayer Gathering
DESCRIPTION:Woman’s praying group\nWe invite you to come and pray with us about LMC.  For more information contact Marcia Mylin at (717)293-5246 ext. 114
URL:https://lmcchurches.org/event/lmc-womens-prayer-gathering-2/2024-08-02/
LOCATION:LMC Churches\, 450 N Prince St.\, Lancaster\, PA\, 17603\, United States
ORGANIZER;CN="LMC Churches":MAILTO:information@lmcchurches.org
GEO:40.0452294;-76.3093616
X-APPLE-STRUCTURED-LOCATION;VALUE=URI;X-ADDRESS=LMC Churches 450 N Prince St. Lancaster PA 17603 United States;X-APPLE-RADIUS=500;X-TITLE=450 N Prince St.:geo:-76.3093616,40.0452294
END:VEVENT
BEGIN:VEVENT
DTSTART;TZID=America/New_York:20240719T080000
DTEND;TZID=America/New_York:20240719T160000
DTSTAMP:20260421T090150
CREATED:20240108T181953Z
LAST-MODIFIED:20240108T181953Z
UID:10368-1721376000-1721404800@lmcchurches.org
SUMMARY:Conference Executive Council
DESCRIPTION:
URL:https://lmcchurches.org/event/conference-executive-council/2024-07-19/
LOCATION:LMC Churches\, 450 N Prince St.\, Lancaster\, PA\, 17603\, United States
ORGANIZER;CN="LMC Churches":MAILTO:information@lmcchurches.org
GEO:40.0452294;-76.3093616
X-APPLE-STRUCTURED-LOCATION;VALUE=URI;X-ADDRESS=LMC Churches 450 N Prince St. Lancaster PA 17603 United States;X-APPLE-RADIUS=500;X-TITLE=450 N Prince St.:geo:-76.3093616,40.0452294
END:VEVENT
BEGIN:VEVENT
DTSTART;TZID=America/New_York:20240705T080000
DTEND;TZID=America/New_York:20240705T090000
DTSTAMP:20260421T090150
CREATED:20240322T183226Z
LAST-MODIFIED:20240322T183226Z
UID:10850-1720166400-1720170000@lmcchurches.org
SUMMARY:LMC Women's Prayer Gathering
DESCRIPTION:Woman’s praying group\nWe invite you to come and pray with us about LMC.  For more information contact Marcia Mylin at (717)293-5246 ext. 114
URL:https://lmcchurches.org/event/lmc-womens-prayer-gathering-2/2024-07-05/
LOCATION:LMC Churches\, 450 N Prince St.\, Lancaster\, PA\, 17603\, United States
ORGANIZER;CN="LMC Churches":MAILTO:information@lmcchurches.org
GEO:40.0452294;-76.3093616
X-APPLE-STRUCTURED-LOCATION;VALUE=URI;X-ADDRESS=LMC Churches 450 N Prince St. Lancaster PA 17603 United States;X-APPLE-RADIUS=500;X-TITLE=450 N Prince St.:geo:-76.3093616,40.0452294
END:VEVENT
BEGIN:VEVENT
DTSTART;TZID=America/New_York:20240607T080000
DTEND;TZID=America/New_York:20240607T090000
DTSTAMP:20260421T090150
CREATED:20240322T183226Z
LAST-MODIFIED:20240322T183226Z
UID:10849-1717747200-1717750800@lmcchurches.org
SUMMARY:LMC Women's Prayer Gathering
DESCRIPTION:Woman’s praying group\nWe invite you to come and pray with us about LMC.  For more information contact Marcia Mylin at (717)293-5246 ext. 114
URL:https://lmcchurches.org/event/lmc-womens-prayer-gathering-2/2024-06-07/
LOCATION:LMC Churches\, 450 N Prince St.\, Lancaster\, PA\, 17603\, United States
ORGANIZER;CN="LMC Churches":MAILTO:information@lmcchurches.org
GEO:40.0452294;-76.3093616
X-APPLE-STRUCTURED-LOCATION;VALUE=URI;X-ADDRESS=LMC Churches 450 N Prince St. Lancaster PA 17603 United States;X-APPLE-RADIUS=500;X-TITLE=450 N Prince St.:geo:-76.3093616,40.0452294
END:VEVENT
BEGIN:VEVENT
DTSTART;TZID=America/New_York:20240517T080000
DTEND;TZID=America/New_York:20240517T160000
DTSTAMP:20260421T090150
CREATED:20240108T181953Z
LAST-MODIFIED:20240108T181953Z
UID:10367-1715932800-1715961600@lmcchurches.org
SUMMARY:Conference Executive Council
DESCRIPTION:
URL:https://lmcchurches.org/event/conference-executive-council/2024-05-17/
LOCATION:LMC Churches\, 450 N Prince St.\, Lancaster\, PA\, 17603\, United States
ORGANIZER;CN="LMC Churches":MAILTO:information@lmcchurches.org
GEO:40.0452294;-76.3093616
X-APPLE-STRUCTURED-LOCATION;VALUE=URI;X-ADDRESS=LMC Churches 450 N Prince St. Lancaster PA 17603 United States;X-APPLE-RADIUS=500;X-TITLE=450 N Prince St.:geo:-76.3093616,40.0452294
END:VEVENT
BEGIN:VEVENT
DTSTART;TZID=America/New_York:20240511T080000
DTEND;TZID=America/New_York:20240511T160000
DTSTAMP:20260421T090150
CREATED:20240108T181047Z
LAST-MODIFIED:20240108T181047Z
UID:10364-1715414400-1715443200@lmcchurches.org
SUMMARY:STEP Classess
DESCRIPTION:STEP provides three years of non-traditional ministry leadership training. Training occurs through online assignments and one class meeting per month\, for nine months\, for each of the three years. Students travel together through the three years in a cohort model.
URL:https://lmcchurches.org/event/step-classess/2024-05-11/
LOCATION:LMC Churches\, 450 N Prince St.\, Lancaster\, PA\, 17603\, United States
ORGANIZER;CN="STEP":MAILTO:step@lmcchurches.org
GEO:40.0452294;-76.3093616
X-APPLE-STRUCTURED-LOCATION;VALUE=URI;X-ADDRESS=LMC Churches 450 N Prince St. Lancaster PA 17603 United States;X-APPLE-RADIUS=500;X-TITLE=450 N Prince St.:geo:-76.3093616,40.0452294
END:VEVENT
BEGIN:VEVENT
DTSTART;TZID=America/New_York:20240503T080000
DTEND;TZID=America/New_York:20240503T090000
DTSTAMP:20260421T090150
CREATED:20240322T183226Z
LAST-MODIFIED:20240322T183226Z
UID:10848-1714723200-1714726800@lmcchurches.org
SUMMARY:LMC Women's Prayer Gathering
DESCRIPTION:Woman’s praying group\nWe invite you to come and pray with us about LMC.  For more information contact Marcia Mylin at (717)293-5246 ext. 114
URL:https://lmcchurches.org/event/lmc-womens-prayer-gathering-2/2024-05-03/
LOCATION:LMC Churches\, 450 N Prince St.\, Lancaster\, PA\, 17603\, United States
ORGANIZER;CN="LMC Churches":MAILTO:information@lmcchurches.org
GEO:40.0452294;-76.3093616
X-APPLE-STRUCTURED-LOCATION;VALUE=URI;X-ADDRESS=LMC Churches 450 N Prince St. Lancaster PA 17603 United States;X-APPLE-RADIUS=500;X-TITLE=450 N Prince St.:geo:-76.3093616,40.0452294
END:VEVENT
BEGIN:VEVENT
DTSTART;TZID=America/New_York:20240425T190000
DTEND;TZID=America/New_York:20240425T210000
DTSTAMP:20260421T090150
CREATED:20240322T184525Z
LAST-MODIFIED:20240322T184624Z
UID:10871-1714071600-1714078800@lmcchurches.org
SUMMARY:LMC Newly Credentialed Leader's Orientation
DESCRIPTION:Thursday\, April 25\n7:00 PM – 9:00 PM\nLMC 450 N. Prince Street Lancaster\, PA or Virtual\nSe proporcionará traducción al español tanto en persona como por Zoom.\nAre you a new pastor or ministry leader within LMC? Perhaps you have been credentialed for a number of years and would like to attend as a refresher. You are invited! \nAny credentialed leader who has not been to an orientation is strongly encouraged to attend.\nWe invite you\, your spouse\, and your bishop to participate in our annual orientation for newly (or recently) credentialed leaders. Conference office staff offer this orientation to help pastors and other credentialed leaders become more fully connected to our shared life in Christ. We hope the orientation will encourage you as a leader in ministry and help you better understand LMC and our shared vision and mission.\nFor more information\, please contact:\nAdalberto Santiago 717-293-5246 ext. 119 – asantiago@lmcchurches.org\nRodney Martin 717-293-5246 ext 103 – rmartin@lmcchurches.org\nSherri Martin 717-293-5246 ext 102 – smartin@lmcchurches.org \n  \n\n\n\n\n\n\n\n\n\n\n\n\n\n\n\n\n\n\n\n\n\n\n\n\n\n\n\n\n\n\n\n\n\n\n\n\n\n\n\n\n\n\n\n\n\n\n\n\n\n\n\n\n\n\n\n\n\n\n\nORIENTACIÓN PARA LÍDERES ACREDITADOS\nJueves\, 25 de abril\n7:00 PM – 9:00 PM\nLMC 450 N. Prince Street Lancaster\, PA ó Virtual\nSe proporcionará traducción al español tanto en persona como por Zoom\n¿Es usted un nuevo pastor o líder de ministerio dentro de LMC? Tal vez haya estado acreditado durante varios años y le gustaría asistir para refrescarse. ¡Estas invitado!\nSe recomienda enfáticamente que asista cualquier líder acreditado que no haya asistido a una orientación.\nLo invitamos a usted\, a su cónyuge y al obispo a participar en nuestra orientación anual para líderes nuevos (o recientemente) acreditados. El personal de la oficina de la conferencia ofrece esta orientación para ayudar a los pastores y otros líderes acreditados a conectarse más plenamente con nuestra vida compartida en Cristo. Esperamos que la orientación lo anime como líder en el ministerio y lo ayude a comprender mejor a LMC y nuestra visión compartida.\n  \nPara mayor información\, contacte:\nAdalberto Santiago 717-293-5246 ext. 119 – asantiago@lmcchurches.org\nRodney Martin 717-293-5246 ext. 103 – rmartin@lmcchurches.org\nSherri Martin 717-293-5246 ext. 102 – smartin@lmcchurches.org
URL:https://lmcchurches.org/event/lmc-newly-credentialed-leaders-orientation/
LOCATION:LMC Churches\, 450 N Prince St.\, Lancaster\, PA\, 17603\, United States
GEO:40.0452294;-76.3093616
X-APPLE-STRUCTURED-LOCATION;VALUE=URI;X-ADDRESS=LMC Churches 450 N Prince St. Lancaster PA 17603 United States;X-APPLE-RADIUS=500;X-TITLE=450 N Prince St.:geo:-76.3093616,40.0452294
END:VEVENT
BEGIN:VEVENT
DTSTART;TZID=America/New_York:20240119T080000
DTEND;TZID=America/New_York:20240119T160000
DTSTAMP:20260421T090150
CREATED:20240108T181953Z
LAST-MODIFIED:20240108T181953Z
UID:10365-1705651200-1705680000@lmcchurches.org
SUMMARY:Conference Executive Council
DESCRIPTION:
URL:https://lmcchurches.org/event/conference-executive-council/2024-01-19/
LOCATION:LMC Churches\, 450 N Prince St.\, Lancaster\, PA\, 17603\, United States
ORGANIZER;CN="LMC Churches":MAILTO:information@lmcchurches.org
GEO:40.0452294;-76.3093616
X-APPLE-STRUCTURED-LOCATION;VALUE=URI;X-ADDRESS=LMC Churches 450 N Prince St. Lancaster PA 17603 United States;X-APPLE-RADIUS=500;X-TITLE=450 N Prince St.:geo:-76.3093616,40.0452294
END:VEVENT
BEGIN:VEVENT
DTSTART;TZID=America/New_York:20240113T080000
DTEND;TZID=America/New_York:20240113T160000
DTSTAMP:20260421T090150
CREATED:20240108T181047Z
LAST-MODIFIED:20240108T181047Z
UID:10360-1705132800-1705161600@lmcchurches.org
SUMMARY:STEP Classess
DESCRIPTION:STEP provides three years of non-traditional ministry leadership training. Training occurs through online assignments and one class meeting per month\, for nine months\, for each of the three years. Students travel together through the three years in a cohort model.
URL:https://lmcchurches.org/event/step-classess/2024-01-13/
LOCATION:LMC Churches\, 450 N Prince St.\, Lancaster\, PA\, 17603\, United States
ORGANIZER;CN="STEP":MAILTO:step@lmcchurches.org
GEO:40.0452294;-76.3093616
X-APPLE-STRUCTURED-LOCATION;VALUE=URI;X-ADDRESS=LMC Churches 450 N Prince St. Lancaster PA 17603 United States;X-APPLE-RADIUS=500;X-TITLE=450 N Prince St.:geo:-76.3093616,40.0452294
END:VEVENT
BEGIN:VEVENT
DTSTART;TZID=America/New_York:20230119T083000
DTEND;TZID=America/New_York:20230119T160000
DTSTAMP:20260421T090150
CREATED:20230112T161001Z
LAST-MODIFIED:20230112T164107Z
UID:8906-1674117000-1674144000@lmcchurches.org
SUMMARY:International Partner Delegate Resourcing Day
DESCRIPTION:We are eagerly anticipating our LMC International Partner Delegate resourcing day at LMC/EMM offices next Thursday January 19.  We welcome you from 8:30-4:00 pm but we understand if your schedule only allows you to join us part of the day.  Coffee and light breakfast items will be available as you arrive and lunch will also be served.  LMC/EMM offices are located at (Hub 450)… 450 North Prince Street\, Lancaster.   We will be meeting on the second floor in the Salunga Room.
URL:https://lmcchurches.org/event/international-partner-delegate-resourcing-day/
LOCATION:LMC Churches\, 450 N Prince St.\, Lancaster\, PA\, 17603\, United States
GEO:40.0452294;-76.3093616
X-APPLE-STRUCTURED-LOCATION;VALUE=URI;X-ADDRESS=LMC Churches 450 N Prince St. Lancaster PA 17603 United States;X-APPLE-RADIUS=500;X-TITLE=450 N Prince St.:geo:-76.3093616,40.0452294
END:VEVENT
BEGIN:VEVENT
DTSTART;TZID=America/New_York:20220925T140000
DTEND;TZID=America/New_York:20220925T170000
DTSTAMP:20260421T090150
CREATED:20220914T164915Z
LAST-MODIFIED:20220914T164915Z
UID:8460-1664114400-1664125200@lmcchurches.org
SUMMARY:Celebrating Keith Weaver Retirement
DESCRIPTION:RETIREMENT\nL. Keith Weaver\, LMC Moderator\nTwenty-two years of faithful service\nEveryone is invited to an informal drop-in dessert reception\nto celebrate with Keith and Joanne Weaver.\n\nSunday\, September 25\, 2022\n2:00 p.m. to 5:00 p.m.\n450 North Prince Street\, Lancaster\, Pa.\n\nPlease RSVP by September 10th to Sherri Martin\nsmartin@lmcchurches.org | 717-293-5246 ext 102 |
URL:https://lmcchurches.org/event/celebrating-keith-weaver-retirement/
LOCATION:LMC Churches\, 450 N Prince St.\, Lancaster\, PA\, 17603\, United States
ORGANIZER;CN="LMC Churches":MAILTO:information@lmcchurches.org
GEO:40.0452294;-76.3093616
X-APPLE-STRUCTURED-LOCATION;VALUE=URI;X-ADDRESS=LMC Churches 450 N Prince St. Lancaster PA 17603 United States;X-APPLE-RADIUS=500;X-TITLE=450 N Prince St.:geo:-76.3093616,40.0452294
END:VEVENT
BEGIN:VEVENT
DTSTART;TZID=America/New_York:20220105T080000
DTEND;TZID=America/New_York:20220105T170000
DTSTAMP:20260421T090150
CREATED:20220103T171525Z
LAST-MODIFIED:20220103T174106Z
UID:7358-1641369600-1641402000@lmcchurches.org
SUMMARY:Youth Ministry Leaders Breakfast
DESCRIPTION:fellowship\, support & prayer\nNew Location – New Day – Same God\nIt’s been some time since we’ve been able to connect at our monthly breakfast meetings. In 2022\, we’re hoping to meet the first Wednesday of each month at the new LMC offices for a light breakfast and a time to share ideas\, encourage and support each other through conversation and prayer.\nAnyone involved with youth ministry in any way in LMC is welcome!
URL:https://lmcchurches.org/event/youth-ministry-leaders-breakfast-2/
LOCATION:LMC Churches\, 450 N Prince St.\, Lancaster\, PA\, 17603\, United States
GEO:40.0452294;-76.3093616
X-APPLE-STRUCTURED-LOCATION;VALUE=URI;X-ADDRESS=LMC Churches 450 N Prince St. Lancaster PA 17603 United States;X-APPLE-RADIUS=500;X-TITLE=450 N Prince St.:geo:-76.3093616,40.0452294
END:VEVENT
BEGIN:VEVENT
DTSTART;TZID=America/New_York:20190412T080000
DTEND;TZID=America/New_York:20190412T090000
DTSTAMP:20260421T090150
CREATED:20240322T183226Z
LAST-MODIFIED:20240322T183506Z
UID:10773-1555056000-1555059600@lmcchurches.org
SUMMARY:LMC Women's Prayer Gathering
DESCRIPTION:Woman’s praying group\nWe invite you to come and pray with us about LMC.  For more information contact Marcia Mylin at (717)293-5246 ext. 114
URL:https://lmcchurches.org/event/lmc-womens-prayer-gathering-2/2019-04-12/
LOCATION:LMC Churches\, 450 N Prince St.\, Lancaster\, PA\, 17603\, United States
ORGANIZER;CN="LMC Churches":MAILTO:information@lmcchurches.org
GEO:40.0452294;-76.3093616
X-APPLE-STRUCTURED-LOCATION;VALUE=URI;X-ADDRESS=LMC Churches 450 N Prince St. Lancaster PA 17603 United States;X-APPLE-RADIUS=500;X-TITLE=450 N Prince St.:geo:-76.3093616,40.0452294
END:VEVENT
END:VCALENDAR