BEGIN:VCALENDAR
VERSION:2.0
PRODID:-//LMC – a fellowship of anabaptist churches - ECPv6.15.20//NONSGML v1.0//EN
CALSCALE:GREGORIAN
METHOD:PUBLISH
X-WR-CALNAME:LMC – a fellowship of anabaptist churches
X-ORIGINAL-URL:https://lmcchurches.org
X-WR-CALDESC:Events for LMC – a fellowship of anabaptist churches
REFRESH-INTERVAL;VALUE=DURATION:PT1H
X-Robots-Tag:noindex
X-PUBLISHED-TTL:PT1H
BEGIN:VTIMEZONE
TZID:America/New_York
BEGIN:DAYLIGHT
TZOFFSETFROM:-0500
TZOFFSETTO:-0400
TZNAME:EDT
DTSTART:20180311T070000
END:DAYLIGHT
BEGIN:STANDARD
TZOFFSETFROM:-0400
TZOFFSETTO:-0500
TZNAME:EST
DTSTART:20181104T060000
END:STANDARD
BEGIN:DAYLIGHT
TZOFFSETFROM:-0500
TZOFFSETTO:-0400
TZNAME:EDT
DTSTART:20190310T070000
END:DAYLIGHT
BEGIN:STANDARD
TZOFFSETFROM:-0400
TZOFFSETTO:-0500
TZNAME:EST
DTSTART:20191103T060000
END:STANDARD
BEGIN:DAYLIGHT
TZOFFSETFROM:-0500
TZOFFSETTO:-0400
TZNAME:EDT
DTSTART:20200308T070000
END:DAYLIGHT
BEGIN:STANDARD
TZOFFSETFROM:-0400
TZOFFSETTO:-0500
TZNAME:EST
DTSTART:20201101T060000
END:STANDARD
BEGIN:DAYLIGHT
TZOFFSETFROM:-0500
TZOFFSETTO:-0400
TZNAME:EDT
DTSTART:20210314T070000
END:DAYLIGHT
BEGIN:STANDARD
TZOFFSETFROM:-0400
TZOFFSETTO:-0500
TZNAME:EST
DTSTART:20211107T060000
END:STANDARD
BEGIN:DAYLIGHT
TZOFFSETFROM:-0500
TZOFFSETTO:-0400
TZNAME:EDT
DTSTART:20220313T070000
END:DAYLIGHT
BEGIN:STANDARD
TZOFFSETFROM:-0400
TZOFFSETTO:-0500
TZNAME:EST
DTSTART:20221106T060000
END:STANDARD
BEGIN:DAYLIGHT
TZOFFSETFROM:-0500
TZOFFSETTO:-0400
TZNAME:EDT
DTSTART:20230312T070000
END:DAYLIGHT
BEGIN:STANDARD
TZOFFSETFROM:-0400
TZOFFSETTO:-0500
TZNAME:EST
DTSTART:20231105T060000
END:STANDARD
END:VTIMEZONE
BEGIN:VEVENT
DTSTART;TZID=America/New_York:20220105T080000
DTEND;TZID=America/New_York:20220105T170000
DTSTAMP:20260421T121046
CREATED:20220103T171525Z
LAST-MODIFIED:20220103T174106Z
UID:7358-1641369600-1641402000@lmcchurches.org
SUMMARY:Youth Ministry Leaders Breakfast
DESCRIPTION:fellowship\, support & prayer\nNew Location – New Day – Same God\nIt’s been some time since we’ve been able to connect at our monthly breakfast meetings. In 2022\, we’re hoping to meet the first Wednesday of each month at the new LMC offices for a light breakfast and a time to share ideas\, encourage and support each other through conversation and prayer.\nAnyone involved with youth ministry in any way in LMC is welcome!
URL:https://lmcchurches.org/event/youth-ministry-leaders-breakfast-2/
LOCATION:LMC Churches\, 450 N Prince St.\, Lancaster\, PA\, 17603\, United States
GEO:40.0452294;-76.3093616
X-APPLE-STRUCTURED-LOCATION;VALUE=URI;X-ADDRESS=LMC Churches 450 N Prince St. Lancaster PA 17603 United States;X-APPLE-RADIUS=500;X-TITLE=450 N Prince St.:geo:-76.3093616,40.0452294
END:VEVENT
BEGIN:VEVENT
DTSTART;TZID=America/New_York:20190412T080000
DTEND;TZID=America/New_York:20190412T090000
DTSTAMP:20260421T121046
CREATED:20240322T183226Z
LAST-MODIFIED:20240322T183506Z
UID:10773-1555056000-1555059600@lmcchurches.org
SUMMARY:LMC Women's Prayer Gathering
DESCRIPTION:Woman’s praying group\nWe invite you to come and pray with us about LMC.  For more information contact Marcia Mylin at (717)293-5246 ext. 114
URL:https://lmcchurches.org/event/lmc-womens-prayer-gathering-2/2019-04-12/
LOCATION:LMC Churches\, 450 N Prince St.\, Lancaster\, PA\, 17603\, United States
ORGANIZER;CN="LMC Churches":MAILTO:information@lmcchurches.org
GEO:40.0452294;-76.3093616
X-APPLE-STRUCTURED-LOCATION;VALUE=URI;X-ADDRESS=LMC Churches 450 N Prince St. Lancaster PA 17603 United States;X-APPLE-RADIUS=500;X-TITLE=450 N Prince St.:geo:-76.3093616,40.0452294
END:VEVENT
END:VCALENDAR