BEGIN:VCALENDAR
VERSION:2.0
PRODID:-//LMC – a fellowship of anabaptist churches - ECPv6.15.20//NONSGML v1.0//EN
CALSCALE:GREGORIAN
METHOD:PUBLISH
X-WR-CALNAME:LMC – a fellowship of anabaptist churches
X-ORIGINAL-URL:https://lmcchurches.org
X-WR-CALDESC:Events for LMC – a fellowship of anabaptist churches
REFRESH-INTERVAL;VALUE=DURATION:PT1H
X-Robots-Tag:noindex
X-PUBLISHED-TTL:PT1H
BEGIN:VTIMEZONE
TZID:America/New_York
BEGIN:DAYLIGHT
TZOFFSETFROM:-0500
TZOFFSETTO:-0400
TZNAME:EDT
DTSTART:20180311T070000
END:DAYLIGHT
BEGIN:STANDARD
TZOFFSETFROM:-0400
TZOFFSETTO:-0500
TZNAME:EST
DTSTART:20181104T060000
END:STANDARD
BEGIN:DAYLIGHT
TZOFFSETFROM:-0500
TZOFFSETTO:-0400
TZNAME:EDT
DTSTART:20190310T070000
END:DAYLIGHT
BEGIN:STANDARD
TZOFFSETFROM:-0400
TZOFFSETTO:-0500
TZNAME:EST
DTSTART:20191103T060000
END:STANDARD
BEGIN:DAYLIGHT
TZOFFSETFROM:-0500
TZOFFSETTO:-0400
TZNAME:EDT
DTSTART:20200308T070000
END:DAYLIGHT
BEGIN:STANDARD
TZOFFSETFROM:-0400
TZOFFSETTO:-0500
TZNAME:EST
DTSTART:20201101T060000
END:STANDARD
END:VTIMEZONE
BEGIN:VEVENT
DTSTART;TZID=America/New_York:20190427T090000
DTEND;TZID=America/New_York:20190427T113000
DTSTAMP:20260421T045126
CREATED:20190215T175258Z
LAST-MODIFIED:20190409T162158Z
UID:3315-1556355600-1556364600@lmcchurches.org
SUMMARY:Children's Ministry Resource Event
DESCRIPTION:This event is for anyone who works with or disciples children. \nTopic:  This Sacred Commission \n\nWhy do we do what we do?\nThe importance of children’s ministry\nThe spiritual life and growth of our children is worth our time and energy\nCommitment to our call\nCurriculum\n\nDate:  Saturday\, April 27\, 2019 \nTime:  9 – 11:30 am \nLocation:  LMC offices\, 2160 Lincoln Hwy E.\, Lancaster \nWho:  Anyone who has a heart for discipling children \nWhat:  Plenary speaker\, stories from local children’s \nministry leaders\, worship\, prayer\, networking\, \nresources\, light refreshments \nCost:  Free \nhttps://www.eventbrite.com/e/the-sacred-commission-childrens-ministry-leader-event-tickets-56657208235 \nNOTE:  Curriculum will be available for purchase the day of the event. Check or cash only. 
URL:https://lmcchurches.org/event/this-event-is-for-anyone-who-works-with-or-has-a-heart-to-disciple-children/
LOCATION:LMC Office\, 2160 Lincoln Hwy East\, Lancaster PA\, 2160 Lincoln Highway East\, Suite 5\, Lancaster\, PA\, 17602
ATTACH;FMTTYPE=image/jpeg:https://lmcchurches.org/wp-content/uploads/2019/02/Childrens-event.jpg
GEO:40.0285001;-76.2291728
X-APPLE-STRUCTURED-LOCATION;VALUE=URI;X-ADDRESS=LMC Office 2160 Lincoln Hwy East Lancaster PA 2160 Lincoln Highway East Suite 5 Lancaster PA 17602;X-APPLE-RADIUS=500;X-TITLE=2160 Lincoln Highway East\, Suite 5:geo:-76.2291728,40.0285001
END:VEVENT
END:VCALENDAR