BEGIN:VCALENDAR
VERSION:2.0
PRODID:-//LMC – a fellowship of anabaptist churches - ECPv6.15.20//NONSGML v1.0//EN
CALSCALE:GREGORIAN
METHOD:PUBLISH
X-ORIGINAL-URL:https://lmcchurches.org
X-WR-CALDESC:Events for LMC – a fellowship of anabaptist churches
REFRESH-INTERVAL;VALUE=DURATION:PT1H
X-Robots-Tag:noindex
X-PUBLISHED-TTL:PT1H
BEGIN:VTIMEZONE
TZID:America/New_York
BEGIN:DAYLIGHT
TZOFFSETFROM:-0500
TZOFFSETTO:-0400
TZNAME:EDT
DTSTART:20160313T070000
END:DAYLIGHT
BEGIN:STANDARD
TZOFFSETFROM:-0400
TZOFFSETTO:-0500
TZNAME:EST
DTSTART:20161106T060000
END:STANDARD
BEGIN:DAYLIGHT
TZOFFSETFROM:-0500
TZOFFSETTO:-0400
TZNAME:EDT
DTSTART:20170312T070000
END:DAYLIGHT
BEGIN:STANDARD
TZOFFSETFROM:-0400
TZOFFSETTO:-0500
TZNAME:EST
DTSTART:20171105T060000
END:STANDARD
BEGIN:DAYLIGHT
TZOFFSETFROM:-0500
TZOFFSETTO:-0400
TZNAME:EDT
DTSTART:20180311T070000
END:DAYLIGHT
BEGIN:STANDARD
TZOFFSETFROM:-0400
TZOFFSETTO:-0500
TZNAME:EST
DTSTART:20181104T060000
END:STANDARD
BEGIN:DAYLIGHT
TZOFFSETFROM:-0500
TZOFFSETTO:-0400
TZNAME:EDT
DTSTART:20190310T070000
END:DAYLIGHT
BEGIN:STANDARD
TZOFFSETFROM:-0400
TZOFFSETTO:-0500
TZNAME:EST
DTSTART:20191103T060000
END:STANDARD
BEGIN:DAYLIGHT
TZOFFSETFROM:-0500
TZOFFSETTO:-0400
TZNAME:EDT
DTSTART:20200308T070000
END:DAYLIGHT
BEGIN:STANDARD
TZOFFSETFROM:-0400
TZOFFSETTO:-0500
TZNAME:EST
DTSTART:20201101T060000
END:STANDARD
BEGIN:DAYLIGHT
TZOFFSETFROM:-0500
TZOFFSETTO:-0400
TZNAME:EDT
DTSTART:20210314T070000
END:DAYLIGHT
BEGIN:STANDARD
TZOFFSETFROM:-0400
TZOFFSETTO:-0500
TZNAME:EST
DTSTART:20211107T060000
END:STANDARD
BEGIN:DAYLIGHT
TZOFFSETFROM:-0500
TZOFFSETTO:-0400
TZNAME:EDT
DTSTART:20220313T070000
END:DAYLIGHT
BEGIN:STANDARD
TZOFFSETFROM:-0400
TZOFFSETTO:-0500
TZNAME:EST
DTSTART:20221106T060000
END:STANDARD
BEGIN:DAYLIGHT
TZOFFSETFROM:-0500
TZOFFSETTO:-0400
TZNAME:EDT
DTSTART:20230312T070000
END:DAYLIGHT
BEGIN:STANDARD
TZOFFSETFROM:-0400
TZOFFSETTO:-0500
TZNAME:EST
DTSTART:20231105T060000
END:STANDARD
BEGIN:DAYLIGHT
TZOFFSETFROM:-0500
TZOFFSETTO:-0400
TZNAME:EDT
DTSTART:20240310T070000
END:DAYLIGHT
BEGIN:STANDARD
TZOFFSETFROM:-0400
TZOFFSETTO:-0500
TZNAME:EST
DTSTART:20241103T060000
END:STANDARD
BEGIN:DAYLIGHT
TZOFFSETFROM:-0500
TZOFFSETTO:-0400
TZNAME:EDT
DTSTART:20250309T070000
END:DAYLIGHT
BEGIN:STANDARD
TZOFFSETFROM:-0400
TZOFFSETTO:-0500
TZNAME:EST
DTSTART:20251102T060000
END:STANDARD
END:VTIMEZONE
BEGIN:VEVENT
DTSTART;TZID=America/New_York:20240503T090000
DTEND;TZID=America/New_York:20240503T153000
DTSTAMP:20260422T134137
CREATED:20240322T185552Z
LAST-MODIFIED:20240322T185649Z
UID:10875-1714726800-1714750200@lmcchurches.org
SUMMARY:Spring Leadership Assembly 2024
DESCRIPTION:Spring Leadership Assembly 2024\nMay 3\, 2024\nMellinger Mennonite Church
URL:https://lmcchurches.org/event/spring-leadership-assembly-2024/
LOCATION:Mellinger Mennonite Church\, 1916 Lincoln Hwy E\, Lancaster\, PA\, 17602\, United States
ORGANIZER;CN="LMC Churches":MAILTO:information@lmcchurches.org
GEO:40.033429;-76.2494961
X-APPLE-STRUCTURED-LOCATION;VALUE=URI;X-ADDRESS=Mellinger Mennonite Church 1916 Lincoln Hwy E Lancaster PA 17602 United States;X-APPLE-RADIUS=500;X-TITLE=1916 Lincoln Hwy E:geo:-76.2494961,40.033429
END:VEVENT
BEGIN:VEVENT
DTSTART;TZID=America/New_York:20201105T193000
DTEND;TZID=America/New_York:20201105T193000
DTSTAMP:20260422T134137
CREATED:20201008T190022Z
LAST-MODIFIED:20201008T190517Z
UID:5673-1604604600-1604604600@lmcchurches.org
SUMMARY:Illumin8~An evening of Worship for Young Adults & High Schoolers
DESCRIPTION:Young Adult ~ High School Students\nYOU ARE INVITED\nIllumin8 is an evening of worship at\nMellinger Mennonite Church on the\nFirst Thursday of each month starting at 7:30 PM.\nThis evening is intended for but is not limited to\,\nhigh school students and young adults.\n  \nOur mission statement is\, “Our vision is to bring the light of Christ to high school students and young adults through worship and teachings. We believe that Jesus calls each one of us to be salt and light in this world\, sharing God’s love with persons within our communities. It is our goal for all to experience the love and acceptance of Jesus\, to be rejuvenated in faith\, and to share the love and peace of Christ with others.” \nPlease feel free to share this with your church and young adult pastors. \n  \nWe look forward to seeing you there!
URL:https://lmcchurches.org/event/illumin8an-evening-of-worship/2020-11-05/
LOCATION:Mellinger Mennonite Church\, 1916 Lincoln Hwy E\, Lancaster\, PA\, 17602\, United States
GEO:40.033429;-76.2494961
X-APPLE-STRUCTURED-LOCATION;VALUE=URI;X-ADDRESS=Mellinger Mennonite Church 1916 Lincoln Hwy E Lancaster PA 17602 United States;X-APPLE-RADIUS=500;X-TITLE=1916 Lincoln Hwy E:geo:-76.2494961,40.033429
END:VEVENT
BEGIN:VEVENT
DTSTART;TZID=America/New_York:20171021T090000
DTEND;TZID=America/New_York:20171021T120000
DTSTAMP:20260422T134137
CREATED:20170706T124345Z
LAST-MODIFIED:20170706T124345Z
UID:1358-1508576400-1508587200@lmcchurches.org
SUMMARY:LMHS - 300 Years of Mellinger Mennonite Church; LMHS - 300 Años de la Iglesia Menonita de Mellinger
DESCRIPTION:Join us for two half-day field trips looking at the origins of Mellinger Mennontie Church on Saturday\, October 21 from 9 a.m. to 12 p.m. or 1 to 4 p.m. Highlights include a walk to the early Mellinger farm as well as a log barn along Leaman Road. The tour will be led by Dan Wenger and Ivan Leaman. The tour begins at Mellinger Mennonite Church. Registration costs $50 for members\, $65 for nonmembers\, and is due September 21. For more information and to register visit lmhs.org or call (717) 393-9745. \nDisfruta de dos giras\, mañana y tarde\, que muestran los orígenes de la Iglesia Menonita de Mellinger.  Se llevarán a cabo el sábado 21 de octubre de 9 a.m. a 12 p.m.\, y de 1 a 4 p.m. Las giras incluyen una corta caminata por la finca colonial de la familia Mellinger\, y un rancho de troncos en la Carretera Leaman\, Road. Dan Wenger y Ivan Leaman dirigirán las giras. La matrícula cuesta $50 para miembros\, $65 para no-miembros\, a pagarse para el 21 de septiembre. Para más información y para inscribirte visita a lmhs.org o llama al (717) 393-9745.
URL:https://lmcchurches.org/event/lmhs-300-years-mellinger-mennonite-church-lmhs-300-anos-de-la-iglesia-menonita-de-mellinger/2017-10-21/
LOCATION:Mellinger Mennonite Church\, 1916 Lincoln Hwy E\, Lancaster\, PA\, 17602\, United States
ORGANIZER;CN="Lancaster Mennonite Historical Society":MAILTO:lmhs@lmhs.org
GEO:40.033429;-76.2494961
X-APPLE-STRUCTURED-LOCATION;VALUE=URI;X-ADDRESS=Mellinger Mennonite Church 1916 Lincoln Hwy E Lancaster PA 17602 United States;X-APPLE-RADIUS=500;X-TITLE=1916 Lincoln Hwy E:geo:-76.2494961,40.033429
END:VEVENT
BEGIN:VEVENT
DTSTART;TZID=America/New_York:20170709T180000
DTEND;TZID=America/New_York:20170709T200000
DTSTAMP:20260422T134137
CREATED:20170606T181455Z
LAST-MODIFIED:20170606T181455Z
UID:1276-1499623200-1499630400@lmcchurches.org
SUMMARY:A sending celebration: EMM worker commissioning; Una celebración de envío: Comisión de obreros de EMM
DESCRIPTION:Come support new and reappointed EMM workers as they are commissioned to serve throughout the world! Worker commissioning is happening Sunday\, July 9\, 6 p.m.\, at Mellinger Mennonite Church\, Lancaster\, Pa. Afterwards\, chat and say goodbyes over ice cream. Mary Minor\, an EMM board member until last year\, will speak about celebrating the call of God on our lives\, locally and globally. With a compelling life story and a refreshing way of sharing her wisdom\, Mary will speak to your heart. Child care available; register at emm.org/commissioning by June 30. Questions? Contact Jessica Fellenger at jessicaf@emm.org or 717 898-2251 ext. 235\, or visit emm.org/commissioning.\n\n¡Venga y ofrezca su apoyo a los nuevos y reelectos obreros de EMM cuando reciban su comisión de servir alrededor del mundo! La comisión de obreros se llevará a cabo el domingo 9 de julio\, a las 6:00 p.m. en Mellinger Mennonite Church\, Lancaster\, Pensilvania. Después del evento platique con ellos y déles su despedida mientras disfruta de un helado. Mary Minor\, uno de los miembros de la junta de EMM hasta el año pasado\, hablará acerca de celebrar el llamado de Dios sobre nuestras vidas\, tanto a nivel local como global. Con una interesante historia de vida y una refrescante manera de compartir su sabiduría\, Mary hablará a su corazón. Se proveerá cuidado de niños; regístrese en emm.org/commissioning antes del 30 de junio. ¿Tiene preguntas? Póngase en contacto con Jessica Fellenger en jessicaf@emm.org o 717 898-2251 ext. 235\, o visite emm.org/commissioning.
URL:https://lmcchurches.org/event/sending-celebration-emm-worker-commissioning-una-celebracion-de-envio-comision-de-obreros-de-emm/
LOCATION:Mellinger Mennonite Church\, 1916 Lincoln Hwy E\, Lancaster\, PA\, 17602\, United States
GEO:40.033429;-76.2494961
X-APPLE-STRUCTURED-LOCATION;VALUE=URI;X-ADDRESS=Mellinger Mennonite Church 1916 Lincoln Hwy E Lancaster PA 17602 United States;X-APPLE-RADIUS=500;X-TITLE=1916 Lincoln Hwy E:geo:-76.2494961,40.033429
END:VEVENT
END:VCALENDAR