BEGIN:VCALENDAR
VERSION:2.0
PRODID:-//LMC – a fellowship of anabaptist churches - ECPv6.15.20//NONSGML v1.0//EN
CALSCALE:GREGORIAN
METHOD:PUBLISH
X-WR-CALNAME:LMC – a fellowship of anabaptist churches
X-ORIGINAL-URL:https://lmcchurches.org
X-WR-CALDESC:Events for LMC – a fellowship of anabaptist churches
REFRESH-INTERVAL;VALUE=DURATION:PT1H
X-Robots-Tag:noindex
X-PUBLISHED-TTL:PT1H
BEGIN:VTIMEZONE
TZID:America/New_York
BEGIN:DAYLIGHT
TZOFFSETFROM:-0500
TZOFFSETTO:-0400
TZNAME:EDT
DTSTART:20160313T070000
END:DAYLIGHT
BEGIN:STANDARD
TZOFFSETFROM:-0400
TZOFFSETTO:-0500
TZNAME:EST
DTSTART:20161106T060000
END:STANDARD
BEGIN:DAYLIGHT
TZOFFSETFROM:-0500
TZOFFSETTO:-0400
TZNAME:EDT
DTSTART:20170312T070000
END:DAYLIGHT
BEGIN:STANDARD
TZOFFSETFROM:-0400
TZOFFSETTO:-0500
TZNAME:EST
DTSTART:20171105T060000
END:STANDARD
BEGIN:DAYLIGHT
TZOFFSETFROM:-0500
TZOFFSETTO:-0400
TZNAME:EDT
DTSTART:20180311T070000
END:DAYLIGHT
BEGIN:STANDARD
TZOFFSETFROM:-0400
TZOFFSETTO:-0500
TZNAME:EST
DTSTART:20181104T060000
END:STANDARD
END:VTIMEZONE
BEGIN:VEVENT
DTSTART;TZID=America/New_York:20170605T190000
DTEND;TZID=America/New_York:20170605T203000
DTSTAMP:20260425T185506
CREATED:20170516T170625Z
LAST-MODIFIED:20170516T170625Z
UID:1235-1496689200-1496694600@lmcchurches.org
SUMMARY:What Young Historians Are Thinking;¿Qué están pensando los historiadores jóvenes?
DESCRIPTION:Hear from three young historians at 7 p.m. on Monday\, June 5\, at Ridgeview Mennonite Church. Micah Brickner will present on the outcomes of Evangelical Visitor\, the denominational publication of the Brethren in Christ. Steven Bauman will discuss peace work of the American Friends Service Committee. Joel Nofziger will talk about Mennonite fictional films and what they reveal about Mennonite identity. \nEscucha a tres historiadores jóvenes a las 7 p.m. el lunes 5 de junio\, en Ridgeview Mennonite Church.  Micah Brickner presentará los resultados del Evangelical Visitor\, la publicación denominacional de la iglesia de los hermanos en Cristo. Steven Bauman hablará sobre el trabajo de paz del American Friends Service Committee.  Joel Nofziger discutirá películas de ficción menonitas y lo que revelan sobre la identidad menonita.
URL:https://lmcchurches.org/event/young-historians-thinkingque-estan-pensando-los-historiadores-jovenes/
LOCATION:Ridgeview Mennonite Church\, 3723 Ridge Rd\, Gordonville\, PA\, 17529\, United States
ORGANIZER;CN="Lancaster Mennonite Historical Society":MAILTO:lmhs@lmhs.org
GEO:40.05333;-76.099395
X-APPLE-STRUCTURED-LOCATION;VALUE=URI;X-ADDRESS=Ridgeview Mennonite Church 3723 Ridge Rd Gordonville PA 17529 United States;X-APPLE-RADIUS=500;X-TITLE=3723 Ridge Rd:geo:-76.099395,40.05333
END:VEVENT
END:VCALENDAR